BEGIN:VCALENDAR
VERSION:2.0
PRODID:-//destination.one//NONSGML destination.meta API//DE
X-WR-CALDESC:A calendar powered by destination.meta
X-WR-CALNAME:teutonavigator Kalender via destination.meta
BEGIN:VEVENT
CATEGORIES:Vortrag/Lesung
DESCRIPTION:Siebdruck Printsessio 10. Juli muscART Kunst-und Siebdruckwerks
 tatt in Lage\n\nmehr Informationen unter http://pages.destination.one/de/t
 eutonavigator/streaming/detail/Event/e_101262282/siebdruck-printsession-10
 -juli-muscart-kunst-und-siebdruckwerkstatt
DTEND;TZID=Europe/Berlin:20260710T203000
DTSTAMP:20260425T165930Z
DTSTART;TZID=Europe/Berlin:20260710T180000
GEO:51.986510;8.757443
LOCATION:Kunstschule muscART\, Mauerstrasse 26\, Lage
ORGANIZER;CN=Kunstschule muscART:mailto:kontakt@muscart.de
SEQUENCE:0
SUMMARY:Siebdruck Printsession 10. Juli muscART Kunst-und Siebdruckwerkstat
 t
UID:e_101262282_iv0
URL:http://pages.destination.one/de/teutonavigator/streaming/detail/Event/e
 _101262282/siebdruck-printsession-10-juli-muscart-kunst-und-siebdruckwerks
 tatt
END:VEVENT
BEGIN:VTIMEZONE
TZID:Europe/Berlin
X-LIC-LOCATION:Europe/Berlin
BEGIN:DAYLIGHT
DTSTART:19700329T020000
RRULE:FREQ=YEARLY;BYDAY=-1SU;BYMONTH=3
TZNAME:CEST
TZOFFSETFROM:+0100
TZOFFSETTO:+0200
END:DAYLIGHT
BEGIN:STANDARD
DTSTART:19701025T030000
RRULE:FREQ=YEARLY;BYDAY=-1SU;BYMONTH=10
TZNAME:CET
TZOFFSETFROM:+0200
TZOFFSETTO:+0100
END:STANDARD
END:VTIMEZONE
END:VCALENDAR
