BEGIN:VCALENDAR
VERSION:2.0
PRODID:-//destination.one//NONSGML destination.meta API//DE
X-WR-CALDESC:A calendar powered by destination.meta
X-WR-CALNAME:teutonavigator Kalender via destination.meta
BEGIN:VEVENT
CATEGORIES:Markt
DESCRIPTION:\n\nmehr Informationen unter http://pages.destination.one/de/te
 utonavigator/streaming/detail/Event/e_101262274/wochenmarkt-am-s-dtor
DTEND;TZID=Europe/Berlin:20260424T180000
DTSTAMP:20260425T121956Z
DTSTART;TZID=Europe/Berlin:20260424T140000
GEO:51.808780;8.427450
LOCATION:Wochenmarkt neben der Südtorschule\, Rathausstraße\, Rietberg
SEQUENCE:0
SUMMARY:Wochenmarkt am Südtor
UID:e_101262274_iv0
URL:http://pages.destination.one/de/teutonavigator/streaming/detail/Event/e
 _101262274/wochenmarkt-am-s-dtor
END:VEVENT
BEGIN:VEVENT
CATEGORIES:Markt
DESCRIPTION:\n\nmehr Informationen unter http://pages.destination.one/de/te
 utonavigator/streaming/detail/Event/e_101262274/wochenmarkt-am-s-dtor
DTEND;TZID=Europe/Berlin:20260508T180000
DTSTAMP:20260425T121956Z
DTSTART;TZID=Europe/Berlin:20260508T140000
GEO:51.808780;8.427450
LOCATION:Wochenmarkt neben der Südtorschule\, Rathausstraße\, Rietberg
SEQUENCE:0
SUMMARY:Wochenmarkt am Südtor
UID:e_101262274_iv1
URL:http://pages.destination.one/de/teutonavigator/streaming/detail/Event/e
 _101262274/wochenmarkt-am-s-dtor
END:VEVENT
BEGIN:VEVENT
CATEGORIES:Markt
DESCRIPTION:\n\nmehr Informationen unter http://pages.destination.one/de/te
 utonavigator/streaming/detail/Event/e_101262274/wochenmarkt-am-s-dtor
DTEND;TZID=Europe/Berlin:20260515T180000
DTSTAMP:20260425T121956Z
DTSTART;TZID=Europe/Berlin:20260515T140000
GEO:51.808780;8.427450
LOCATION:Wochenmarkt neben der Südtorschule\, Rathausstraße\, Rietberg
SEQUENCE:0
SUMMARY:Wochenmarkt am Südtor
UID:e_101262274_iv2
URL:http://pages.destination.one/de/teutonavigator/streaming/detail/Event/e
 _101262274/wochenmarkt-am-s-dtor
END:VEVENT
BEGIN:VEVENT
CATEGORIES:Markt
DESCRIPTION:\n\nmehr Informationen unter http://pages.destination.one/de/te
 utonavigator/streaming/detail/Event/e_101262274/wochenmarkt-am-s-dtor
DTEND;TZID=Europe/Berlin:20260522T180000
DTSTAMP:20260425T121956Z
DTSTART;TZID=Europe/Berlin:20260522T140000
GEO:51.808780;8.427450
LOCATION:Wochenmarkt neben der Südtorschule\, Rathausstraße\, Rietberg
SEQUENCE:0
SUMMARY:Wochenmarkt am Südtor
UID:e_101262274_iv3
URL:http://pages.destination.one/de/teutonavigator/streaming/detail/Event/e
 _101262274/wochenmarkt-am-s-dtor
END:VEVENT
BEGIN:VEVENT
CATEGORIES:Markt
DESCRIPTION:\n\nmehr Informationen unter http://pages.destination.one/de/te
 utonavigator/streaming/detail/Event/e_101262274/wochenmarkt-am-s-dtor
DTEND;TZID=Europe/Berlin:20260529T180000
DTSTAMP:20260425T121956Z
DTSTART;TZID=Europe/Berlin:20260529T140000
GEO:51.808780;8.427450
LOCATION:Wochenmarkt neben der Südtorschule\, Rathausstraße\, Rietberg
SEQUENCE:0
SUMMARY:Wochenmarkt am Südtor
UID:e_101262274_iv4
URL:http://pages.destination.one/de/teutonavigator/streaming/detail/Event/e
 _101262274/wochenmarkt-am-s-dtor
END:VEVENT
BEGIN:VEVENT
CATEGORIES:Markt
DESCRIPTION:\n\nmehr Informationen unter http://pages.destination.one/de/te
 utonavigator/streaming/detail/Event/e_101262274/wochenmarkt-am-s-dtor
DTEND;TZID=Europe/Berlin:20260605T180000
DTSTAMP:20260425T121956Z
DTSTART;TZID=Europe/Berlin:20260605T140000
GEO:51.808780;8.427450
LOCATION:Wochenmarkt neben der Südtorschule\, Rathausstraße\, Rietberg
SEQUENCE:0
SUMMARY:Wochenmarkt am Südtor
UID:e_101262274_iv5
URL:http://pages.destination.one/de/teutonavigator/streaming/detail/Event/e
 _101262274/wochenmarkt-am-s-dtor
END:VEVENT
BEGIN:VEVENT
CATEGORIES:Markt
DESCRIPTION:\n\nmehr Informationen unter http://pages.destination.one/de/te
 utonavigator/streaming/detail/Event/e_101262274/wochenmarkt-am-s-dtor
DTEND;TZID=Europe/Berlin:20260612T180000
DTSTAMP:20260425T121956Z
DTSTART;TZID=Europe/Berlin:20260612T140000
GEO:51.808780;8.427450
LOCATION:Wochenmarkt neben der Südtorschule\, Rathausstraße\, Rietberg
SEQUENCE:0
SUMMARY:Wochenmarkt am Südtor
UID:e_101262274_iv6
URL:http://pages.destination.one/de/teutonavigator/streaming/detail/Event/e
 _101262274/wochenmarkt-am-s-dtor
END:VEVENT
BEGIN:VEVENT
CATEGORIES:Markt
DESCRIPTION:\n\nmehr Informationen unter http://pages.destination.one/de/te
 utonavigator/streaming/detail/Event/e_101262274/wochenmarkt-am-s-dtor
DTEND;TZID=Europe/Berlin:20260619T180000
DTSTAMP:20260425T121956Z
DTSTART;TZID=Europe/Berlin:20260619T140000
GEO:51.808780;8.427450
LOCATION:Wochenmarkt neben der Südtorschule\, Rathausstraße\, Rietberg
SEQUENCE:0
SUMMARY:Wochenmarkt am Südtor
UID:e_101262274_iv7
URL:http://pages.destination.one/de/teutonavigator/streaming/detail/Event/e
 _101262274/wochenmarkt-am-s-dtor
END:VEVENT
BEGIN:VEVENT
CATEGORIES:Markt
DESCRIPTION:\n\nmehr Informationen unter http://pages.destination.one/de/te
 utonavigator/streaming/detail/Event/e_101262274/wochenmarkt-am-s-dtor
DTEND;TZID=Europe/Berlin:20260626T180000
DTSTAMP:20260425T121956Z
DTSTART;TZID=Europe/Berlin:20260626T140000
GEO:51.808780;8.427450
LOCATION:Wochenmarkt neben der Südtorschule\, Rathausstraße\, Rietberg
SEQUENCE:0
SUMMARY:Wochenmarkt am Südtor
UID:e_101262274_iv8
URL:http://pages.destination.one/de/teutonavigator/streaming/detail/Event/e
 _101262274/wochenmarkt-am-s-dtor
END:VEVENT
BEGIN:VEVENT
CATEGORIES:Markt
DESCRIPTION:\n\nmehr Informationen unter http://pages.destination.one/de/te
 utonavigator/streaming/detail/Event/e_101262274/wochenmarkt-am-s-dtor
DTEND;TZID=Europe/Berlin:20260703T180000
DTSTAMP:20260425T121956Z
DTSTART;TZID=Europe/Berlin:20260703T140000
GEO:51.808780;8.427450
LOCATION:Wochenmarkt neben der Südtorschule\, Rathausstraße\, Rietberg
SEQUENCE:0
SUMMARY:Wochenmarkt am Südtor
UID:e_101262274_iv9
URL:http://pages.destination.one/de/teutonavigator/streaming/detail/Event/e
 _101262274/wochenmarkt-am-s-dtor
END:VEVENT
BEGIN:VEVENT
CATEGORIES:Markt
DESCRIPTION:\n\nmehr Informationen unter http://pages.destination.one/de/te
 utonavigator/streaming/detail/Event/e_101262274/wochenmarkt-am-s-dtor
DTEND;TZID=Europe/Berlin:20260710T180000
DTSTAMP:20260425T121956Z
DTSTART;TZID=Europe/Berlin:20260710T140000
GEO:51.808780;8.427450
LOCATION:Wochenmarkt neben der Südtorschule\, Rathausstraße\, Rietberg
SEQUENCE:0
SUMMARY:Wochenmarkt am Südtor
UID:e_101262274_iv10
URL:http://pages.destination.one/de/teutonavigator/streaming/detail/Event/e
 _101262274/wochenmarkt-am-s-dtor
END:VEVENT
BEGIN:VEVENT
CATEGORIES:Markt
DESCRIPTION:\n\nmehr Informationen unter http://pages.destination.one/de/te
 utonavigator/streaming/detail/Event/e_101262274/wochenmarkt-am-s-dtor
DTEND;TZID=Europe/Berlin:20260717T180000
DTSTAMP:20260425T121956Z
DTSTART;TZID=Europe/Berlin:20260717T140000
GEO:51.808780;8.427450
LOCATION:Wochenmarkt neben der Südtorschule\, Rathausstraße\, Rietberg
SEQUENCE:0
SUMMARY:Wochenmarkt am Südtor
UID:e_101262274_iv11
URL:http://pages.destination.one/de/teutonavigator/streaming/detail/Event/e
 _101262274/wochenmarkt-am-s-dtor
END:VEVENT
BEGIN:VEVENT
CATEGORIES:Markt
DESCRIPTION:\n\nmehr Informationen unter http://pages.destination.one/de/te
 utonavigator/streaming/detail/Event/e_101262274/wochenmarkt-am-s-dtor
DTEND;TZID=Europe/Berlin:20260724T180000
DTSTAMP:20260425T121956Z
DTSTART;TZID=Europe/Berlin:20260724T140000
GEO:51.808780;8.427450
LOCATION:Wochenmarkt neben der Südtorschule\, Rathausstraße\, Rietberg
SEQUENCE:0
SUMMARY:Wochenmarkt am Südtor
UID:e_101262274_iv12
URL:http://pages.destination.one/de/teutonavigator/streaming/detail/Event/e
 _101262274/wochenmarkt-am-s-dtor
END:VEVENT
BEGIN:VEVENT
CATEGORIES:Markt
DESCRIPTION:\n\nmehr Informationen unter http://pages.destination.one/de/te
 utonavigator/streaming/detail/Event/e_101262274/wochenmarkt-am-s-dtor
DTEND;TZID=Europe/Berlin:20260731T180000
DTSTAMP:20260425T121956Z
DTSTART;TZID=Europe/Berlin:20260731T140000
GEO:51.808780;8.427450
LOCATION:Wochenmarkt neben der Südtorschule\, Rathausstraße\, Rietberg
SEQUENCE:0
SUMMARY:Wochenmarkt am Südtor
UID:e_101262274_iv13
URL:http://pages.destination.one/de/teutonavigator/streaming/detail/Event/e
 _101262274/wochenmarkt-am-s-dtor
END:VEVENT
BEGIN:VEVENT
CATEGORIES:Markt
DESCRIPTION:\n\nmehr Informationen unter http://pages.destination.one/de/te
 utonavigator/streaming/detail/Event/e_101262274/wochenmarkt-am-s-dtor
DTEND;TZID=Europe/Berlin:20260807T180000
DTSTAMP:20260425T121956Z
DTSTART;TZID=Europe/Berlin:20260807T140000
GEO:51.808780;8.427450
LOCATION:Wochenmarkt neben der Südtorschule\, Rathausstraße\, Rietberg
SEQUENCE:0
SUMMARY:Wochenmarkt am Südtor
UID:e_101262274_iv14
URL:http://pages.destination.one/de/teutonavigator/streaming/detail/Event/e
 _101262274/wochenmarkt-am-s-dtor
END:VEVENT
BEGIN:VEVENT
CATEGORIES:Markt
DESCRIPTION:\n\nmehr Informationen unter http://pages.destination.one/de/te
 utonavigator/streaming/detail/Event/e_101262274/wochenmarkt-am-s-dtor
DTEND;TZID=Europe/Berlin:20260814T180000
DTSTAMP:20260425T121956Z
DTSTART;TZID=Europe/Berlin:20260814T140000
GEO:51.808780;8.427450
LOCATION:Wochenmarkt neben der Südtorschule\, Rathausstraße\, Rietberg
SEQUENCE:0
SUMMARY:Wochenmarkt am Südtor
UID:e_101262274_iv15
URL:http://pages.destination.one/de/teutonavigator/streaming/detail/Event/e
 _101262274/wochenmarkt-am-s-dtor
END:VEVENT
BEGIN:VEVENT
CATEGORIES:Markt
DESCRIPTION:\n\nmehr Informationen unter http://pages.destination.one/de/te
 utonavigator/streaming/detail/Event/e_101262274/wochenmarkt-am-s-dtor
DTEND;TZID=Europe/Berlin:20260821T180000
DTSTAMP:20260425T121956Z
DTSTART;TZID=Europe/Berlin:20260821T140000
GEO:51.808780;8.427450
LOCATION:Wochenmarkt neben der Südtorschule\, Rathausstraße\, Rietberg
SEQUENCE:0
SUMMARY:Wochenmarkt am Südtor
UID:e_101262274_iv16
URL:http://pages.destination.one/de/teutonavigator/streaming/detail/Event/e
 _101262274/wochenmarkt-am-s-dtor
END:VEVENT
BEGIN:VEVENT
CATEGORIES:Markt
DESCRIPTION:\n\nmehr Informationen unter http://pages.destination.one/de/te
 utonavigator/streaming/detail/Event/e_101262274/wochenmarkt-am-s-dtor
DTEND;TZID=Europe/Berlin:20260828T180000
DTSTAMP:20260425T121956Z
DTSTART;TZID=Europe/Berlin:20260828T140000
GEO:51.808780;8.427450
LOCATION:Wochenmarkt neben der Südtorschule\, Rathausstraße\, Rietberg
SEQUENCE:0
SUMMARY:Wochenmarkt am Südtor
UID:e_101262274_iv17
URL:http://pages.destination.one/de/teutonavigator/streaming/detail/Event/e
 _101262274/wochenmarkt-am-s-dtor
END:VEVENT
BEGIN:VEVENT
CATEGORIES:Markt
DESCRIPTION:\n\nmehr Informationen unter http://pages.destination.one/de/te
 utonavigator/streaming/detail/Event/e_101262274/wochenmarkt-am-s-dtor
DTEND;TZID=Europe/Berlin:20260904T180000
DTSTAMP:20260425T121956Z
DTSTART;TZID=Europe/Berlin:20260904T140000
GEO:51.808780;8.427450
LOCATION:Wochenmarkt neben der Südtorschule\, Rathausstraße\, Rietberg
SEQUENCE:0
SUMMARY:Wochenmarkt am Südtor
UID:e_101262274_iv18
URL:http://pages.destination.one/de/teutonavigator/streaming/detail/Event/e
 _101262274/wochenmarkt-am-s-dtor
END:VEVENT
BEGIN:VEVENT
CATEGORIES:Markt
DESCRIPTION:\n\nmehr Informationen unter http://pages.destination.one/de/te
 utonavigator/streaming/detail/Event/e_101262274/wochenmarkt-am-s-dtor
DTEND;TZID=Europe/Berlin:20260911T180000
DTSTAMP:20260425T121956Z
DTSTART;TZID=Europe/Berlin:20260911T140000
GEO:51.808780;8.427450
LOCATION:Wochenmarkt neben der Südtorschule\, Rathausstraße\, Rietberg
SEQUENCE:0
SUMMARY:Wochenmarkt am Südtor
UID:e_101262274_iv19
URL:http://pages.destination.one/de/teutonavigator/streaming/detail/Event/e
 _101262274/wochenmarkt-am-s-dtor
END:VEVENT
BEGIN:VEVENT
CATEGORIES:Markt
DESCRIPTION:\n\nmehr Informationen unter http://pages.destination.one/de/te
 utonavigator/streaming/detail/Event/e_101262274/wochenmarkt-am-s-dtor
DTEND;TZID=Europe/Berlin:20260918T180000
DTSTAMP:20260425T121956Z
DTSTART;TZID=Europe/Berlin:20260918T140000
GEO:51.808780;8.427450
LOCATION:Wochenmarkt neben der Südtorschule\, Rathausstraße\, Rietberg
SEQUENCE:0
SUMMARY:Wochenmarkt am Südtor
UID:e_101262274_iv20
URL:http://pages.destination.one/de/teutonavigator/streaming/detail/Event/e
 _101262274/wochenmarkt-am-s-dtor
END:VEVENT
BEGIN:VEVENT
CATEGORIES:Markt
DESCRIPTION:\n\nmehr Informationen unter http://pages.destination.one/de/te
 utonavigator/streaming/detail/Event/e_101262274/wochenmarkt-am-s-dtor
DTEND;TZID=Europe/Berlin:20260925T180000
DTSTAMP:20260425T121956Z
DTSTART;TZID=Europe/Berlin:20260925T140000
GEO:51.808780;8.427450
LOCATION:Wochenmarkt neben der Südtorschule\, Rathausstraße\, Rietberg
SEQUENCE:0
SUMMARY:Wochenmarkt am Südtor
UID:e_101262274_iv21
URL:http://pages.destination.one/de/teutonavigator/streaming/detail/Event/e
 _101262274/wochenmarkt-am-s-dtor
END:VEVENT
BEGIN:VEVENT
CATEGORIES:Markt
DESCRIPTION:\n\nmehr Informationen unter http://pages.destination.one/de/te
 utonavigator/streaming/detail/Event/e_101262274/wochenmarkt-am-s-dtor
DTEND;TZID=Europe/Berlin:20261002T180000
DTSTAMP:20260425T121956Z
DTSTART;TZID=Europe/Berlin:20261002T140000
GEO:51.808780;8.427450
LOCATION:Wochenmarkt neben der Südtorschule\, Rathausstraße\, Rietberg
SEQUENCE:0
SUMMARY:Wochenmarkt am Südtor
UID:e_101262274_iv22
URL:http://pages.destination.one/de/teutonavigator/streaming/detail/Event/e
 _101262274/wochenmarkt-am-s-dtor
END:VEVENT
BEGIN:VEVENT
CATEGORIES:Markt
DESCRIPTION:\n\nmehr Informationen unter http://pages.destination.one/de/te
 utonavigator/streaming/detail/Event/e_101262274/wochenmarkt-am-s-dtor
DTEND;TZID=Europe/Berlin:20261009T180000
DTSTAMP:20260425T121956Z
DTSTART;TZID=Europe/Berlin:20261009T140000
GEO:51.808780;8.427450
LOCATION:Wochenmarkt neben der Südtorschule\, Rathausstraße\, Rietberg
SEQUENCE:0
SUMMARY:Wochenmarkt am Südtor
UID:e_101262274_iv23
URL:http://pages.destination.one/de/teutonavigator/streaming/detail/Event/e
 _101262274/wochenmarkt-am-s-dtor
END:VEVENT
BEGIN:VEVENT
CATEGORIES:Markt
DESCRIPTION:\n\nmehr Informationen unter http://pages.destination.one/de/te
 utonavigator/streaming/detail/Event/e_101262274/wochenmarkt-am-s-dtor
DTEND;TZID=Europe/Berlin:20261016T180000
DTSTAMP:20260425T121956Z
DTSTART;TZID=Europe/Berlin:20261016T140000
GEO:51.808780;8.427450
LOCATION:Wochenmarkt neben der Südtorschule\, Rathausstraße\, Rietberg
SEQUENCE:0
SUMMARY:Wochenmarkt am Südtor
UID:e_101262274_iv24
URL:http://pages.destination.one/de/teutonavigator/streaming/detail/Event/e
 _101262274/wochenmarkt-am-s-dtor
END:VEVENT
BEGIN:VEVENT
CATEGORIES:Markt
DESCRIPTION:\n\nmehr Informationen unter http://pages.destination.one/de/te
 utonavigator/streaming/detail/Event/e_101262274/wochenmarkt-am-s-dtor
DTEND;TZID=Europe/Berlin:20261023T180000
DTSTAMP:20260425T121956Z
DTSTART;TZID=Europe/Berlin:20261023T140000
GEO:51.808780;8.427450
LOCATION:Wochenmarkt neben der Südtorschule\, Rathausstraße\, Rietberg
SEQUENCE:0
SUMMARY:Wochenmarkt am Südtor
UID:e_101262274_iv25
URL:http://pages.destination.one/de/teutonavigator/streaming/detail/Event/e
 _101262274/wochenmarkt-am-s-dtor
END:VEVENT
BEGIN:VEVENT
CATEGORIES:Markt
DESCRIPTION:\n\nmehr Informationen unter http://pages.destination.one/de/te
 utonavigator/streaming/detail/Event/e_101262274/wochenmarkt-am-s-dtor
DTEND;TZID=Europe/Berlin:20261030T180000
DTSTAMP:20260425T121956Z
DTSTART;TZID=Europe/Berlin:20261030T140000
GEO:51.808780;8.427450
LOCATION:Wochenmarkt neben der Südtorschule\, Rathausstraße\, Rietberg
SEQUENCE:0
SUMMARY:Wochenmarkt am Südtor
UID:e_101262274_iv26
URL:http://pages.destination.one/de/teutonavigator/streaming/detail/Event/e
 _101262274/wochenmarkt-am-s-dtor
END:VEVENT
BEGIN:VEVENT
CATEGORIES:Markt
DESCRIPTION:\n\nmehr Informationen unter http://pages.destination.one/de/te
 utonavigator/streaming/detail/Event/e_101262274/wochenmarkt-am-s-dtor
DTEND;TZID=Europe/Berlin:20261106T180000
DTSTAMP:20260425T121956Z
DTSTART;TZID=Europe/Berlin:20261106T140000
GEO:51.808780;8.427450
LOCATION:Wochenmarkt neben der Südtorschule\, Rathausstraße\, Rietberg
SEQUENCE:0
SUMMARY:Wochenmarkt am Südtor
UID:e_101262274_iv27
URL:http://pages.destination.one/de/teutonavigator/streaming/detail/Event/e
 _101262274/wochenmarkt-am-s-dtor
END:VEVENT
BEGIN:VEVENT
CATEGORIES:Markt
DESCRIPTION:\n\nmehr Informationen unter http://pages.destination.one/de/te
 utonavigator/streaming/detail/Event/e_101262274/wochenmarkt-am-s-dtor
DTEND;TZID=Europe/Berlin:20261113T180000
DTSTAMP:20260425T121956Z
DTSTART;TZID=Europe/Berlin:20261113T140000
GEO:51.808780;8.427450
LOCATION:Wochenmarkt neben der Südtorschule\, Rathausstraße\, Rietberg
SEQUENCE:0
SUMMARY:Wochenmarkt am Südtor
UID:e_101262274_iv28
URL:http://pages.destination.one/de/teutonavigator/streaming/detail/Event/e
 _101262274/wochenmarkt-am-s-dtor
END:VEVENT
BEGIN:VEVENT
CATEGORIES:Markt
DESCRIPTION:\n\nmehr Informationen unter http://pages.destination.one/de/te
 utonavigator/streaming/detail/Event/e_101262274/wochenmarkt-am-s-dtor
DTEND;TZID=Europe/Berlin:20261120T180000
DTSTAMP:20260425T121956Z
DTSTART;TZID=Europe/Berlin:20261120T140000
GEO:51.808780;8.427450
LOCATION:Wochenmarkt neben der Südtorschule\, Rathausstraße\, Rietberg
SEQUENCE:0
SUMMARY:Wochenmarkt am Südtor
UID:e_101262274_iv29
URL:http://pages.destination.one/de/teutonavigator/streaming/detail/Event/e
 _101262274/wochenmarkt-am-s-dtor
END:VEVENT
BEGIN:VEVENT
CATEGORIES:Markt
DESCRIPTION:\n\nmehr Informationen unter http://pages.destination.one/de/te
 utonavigator/streaming/detail/Event/e_101262274/wochenmarkt-am-s-dtor
DTEND;TZID=Europe/Berlin:20261127T180000
DTSTAMP:20260425T121956Z
DTSTART;TZID=Europe/Berlin:20261127T140000
GEO:51.808780;8.427450
LOCATION:Wochenmarkt neben der Südtorschule\, Rathausstraße\, Rietberg
SEQUENCE:0
SUMMARY:Wochenmarkt am Südtor
UID:e_101262274_iv30
URL:http://pages.destination.one/de/teutonavigator/streaming/detail/Event/e
 _101262274/wochenmarkt-am-s-dtor
END:VEVENT
BEGIN:VEVENT
CATEGORIES:Markt
DESCRIPTION:\n\nmehr Informationen unter http://pages.destination.one/de/te
 utonavigator/streaming/detail/Event/e_101262274/wochenmarkt-am-s-dtor
DTEND;TZID=Europe/Berlin:20261204T180000
DTSTAMP:20260425T121956Z
DTSTART;TZID=Europe/Berlin:20261204T140000
GEO:51.808780;8.427450
LOCATION:Wochenmarkt neben der Südtorschule\, Rathausstraße\, Rietberg
SEQUENCE:0
SUMMARY:Wochenmarkt am Südtor
UID:e_101262274_iv31
URL:http://pages.destination.one/de/teutonavigator/streaming/detail/Event/e
 _101262274/wochenmarkt-am-s-dtor
END:VEVENT
BEGIN:VEVENT
CATEGORIES:Markt
DESCRIPTION:\n\nmehr Informationen unter http://pages.destination.one/de/te
 utonavigator/streaming/detail/Event/e_101262274/wochenmarkt-am-s-dtor
DTEND;TZID=Europe/Berlin:20261211T180000
DTSTAMP:20260425T121956Z
DTSTART;TZID=Europe/Berlin:20261211T140000
GEO:51.808780;8.427450
LOCATION:Wochenmarkt neben der Südtorschule\, Rathausstraße\, Rietberg
SEQUENCE:0
SUMMARY:Wochenmarkt am Südtor
UID:e_101262274_iv32
URL:http://pages.destination.one/de/teutonavigator/streaming/detail/Event/e
 _101262274/wochenmarkt-am-s-dtor
END:VEVENT
BEGIN:VEVENT
CATEGORIES:Markt
DESCRIPTION:\n\nmehr Informationen unter http://pages.destination.one/de/te
 utonavigator/streaming/detail/Event/e_101262274/wochenmarkt-am-s-dtor
DTEND;TZID=Europe/Berlin:20261218T180000
DTSTAMP:20260425T121956Z
DTSTART;TZID=Europe/Berlin:20261218T140000
GEO:51.808780;8.427450
LOCATION:Wochenmarkt neben der Südtorschule\, Rathausstraße\, Rietberg
SEQUENCE:0
SUMMARY:Wochenmarkt am Südtor
UID:e_101262274_iv33
URL:http://pages.destination.one/de/teutonavigator/streaming/detail/Event/e
 _101262274/wochenmarkt-am-s-dtor
END:VEVENT
BEGIN:VTIMEZONE
TZID:Europe/Berlin
X-LIC-LOCATION:Europe/Berlin
BEGIN:DAYLIGHT
DTSTART:19700329T020000
RRULE:FREQ=YEARLY;BYDAY=-1SU;BYMONTH=3
TZNAME:CEST
TZOFFSETFROM:+0100
TZOFFSETTO:+0200
END:DAYLIGHT
BEGIN:STANDARD
DTSTART:19701025T030000
RRULE:FREQ=YEARLY;BYDAY=-1SU;BYMONTH=10
TZNAME:CET
TZOFFSETFROM:+0200
TZOFFSETTO:+0100
END:STANDARD
END:VTIMEZONE
END:VCALENDAR
