BEGIN:VCALENDAR
VERSION:2.0
PRODID:-//destination.one//NONSGML destination.meta API//DE
X-WR-CALDESC:A calendar powered by destination.meta
X-WR-CALNAME:teutonavigator Kalender via destination.meta
BEGIN:VEVENT
CATEGORIES:Vortrag/Lesung
DESCRIPTION:\n\nmehr Informationen unter http://pages.destination.one/de/te
 utonavigator/streaming/detail/Event/e_101261847/vortrag-die-r-ckkehr-des-w
 olfes
DTEND;TZID=Europe/Berlin:20260429T235900
DTSTAMP:20260425T151811Z
DTSTART;TZID=Europe/Berlin:20260429T190000
GEO:51.781977;8.824505
LOCATION:Prinzenpalais Bad Lippspringe\, Arminiuspark 11\, Bad Lippspringe
ORGANIZER;CN=NABU Natur-Informationszentrum Senne im Prinzenpalais:mailto:i
 nfo@nabu-paderborn.de
SEQUENCE:0
SUMMARY:Vortrag: Die Rückkehr des Wolfes
UID:e_101261847_iv0
URL:http://pages.destination.one/de/teutonavigator/streaming/detail/Event/e
 _101261847/vortrag-die-r-ckkehr-des-wolfes
END:VEVENT
BEGIN:VTIMEZONE
TZID:Europe/Berlin
X-LIC-LOCATION:Europe/Berlin
BEGIN:DAYLIGHT
DTSTART:19700329T020000
RRULE:FREQ=YEARLY;BYDAY=-1SU;BYMONTH=3
TZNAME:CEST
TZOFFSETFROM:+0100
TZOFFSETTO:+0200
END:DAYLIGHT
BEGIN:STANDARD
DTSTART:19701025T030000
RRULE:FREQ=YEARLY;BYDAY=-1SU;BYMONTH=10
TZNAME:CET
TZOFFSETFROM:+0200
TZOFFSETTO:+0100
END:STANDARD
END:VTIMEZONE
END:VCALENDAR
