BEGIN:VCALENDAR
VERSION:2.0
PRODID:-//destination.one//NONSGML destination.meta API//DE
X-WR-CALDESC:A calendar powered by destination.meta
X-WR-CALNAME:teutonavigator Kalender via destination.meta
BEGIN:VEVENT
CATEGORIES:Konzert divers
CATEGORIES:Brauchtum/Kultur
DESCRIPTION:Konzert des Symphonischen Blasorchesters Drei Sparren\n\nmehr I
 nformationen unter http://pages.destination.one/de/teutonavigator/streamin
 g/detail/Event/e_101261753/best-of-3sparren-10-jahre-richts
DTEND;TZID=Europe/Berlin:20260531T180000
DTSTAMP:20260425T151948Z
DTSTART;TZID=Europe/Berlin:20260531T160000
GEO:52.015871;8.548603
LOCATION:Cecilien-Gymnasium\, Niedermühlenkamp 5\, Bielefeld
SEQUENCE:0
SUMMARY:Best of 3Sparren - 10 Jahre Richts
UID:e_101261753_iv0
URL:http://pages.destination.one/de/teutonavigator/streaming/detail/Event/e
 _101261753/best-of-3sparren-10-jahre-richts
END:VEVENT
BEGIN:VTIMEZONE
TZID:Europe/Berlin
X-LIC-LOCATION:Europe/Berlin
BEGIN:DAYLIGHT
DTSTART:19700329T020000
RRULE:FREQ=YEARLY;BYDAY=-1SU;BYMONTH=3
TZNAME:CEST
TZOFFSETFROM:+0100
TZOFFSETTO:+0200
END:DAYLIGHT
BEGIN:STANDARD
DTSTART:19701025T030000
RRULE:FREQ=YEARLY;BYDAY=-1SU;BYMONTH=10
TZNAME:CET
TZOFFSETFROM:+0200
TZOFFSETTO:+0100
END:STANDARD
END:VTIMEZONE
END:VCALENDAR
