BEGIN:VCALENDAR
VERSION:2.0
PRODID:-//destination.one//NONSGML destination.meta API//DE
X-WR-CALDESC:A calendar powered by destination.meta
X-WR-CALNAME:teutonavigator Kalender via destination.meta
BEGIN:VEVENT
CATEGORIES:Party/Nightlife
CATEGORIES:Konzert divers
CATEGORIES:Brauchtum/Kultur
CATEGORIES:Ausstellung
DESCRIPTION:Urban\, Tropical & Global Bass\n\nmehr Informationen unter http
 ://pages.destination.one/de/teutonavigator/streaming/detail/Event/e_101261
 744/p-art-y-mit-pok
DTEND;TZID=Europe/Berlin:20260509T220000
DTSTAMP:20260425T104416Z
DTSTART;TZID=Europe/Berlin:20260509T200000
GEO:52.030579;8.526475
LOCATION:Alarmtheater\, Gustav-Adolf-Str. 17\, Bielefeld
SEQUENCE:0
SUMMARY:P.ART.Y mit POK
UID:e_101261744_iv0
URL:http://pages.destination.one/de/teutonavigator/streaming/detail/Event/e
 _101261744/p-art-y-mit-pok
END:VEVENT
BEGIN:VTIMEZONE
TZID:Europe/Berlin
X-LIC-LOCATION:Europe/Berlin
BEGIN:DAYLIGHT
DTSTART:19700329T020000
RRULE:FREQ=YEARLY;BYDAY=-1SU;BYMONTH=3
TZNAME:CEST
TZOFFSETFROM:+0100
TZOFFSETTO:+0200
END:DAYLIGHT
BEGIN:STANDARD
DTSTART:19701025T030000
RRULE:FREQ=YEARLY;BYDAY=-1SU;BYMONTH=10
TZNAME:CET
TZOFFSETFROM:+0200
TZOFFSETTO:+0100
END:STANDARD
END:VTIMEZONE
END:VCALENDAR
