BEGIN:VCALENDAR
VERSION:2.0
PRODID:-//destination.one//NONSGML destination.meta API//DE
X-WR-CALDESC:A calendar powered by destination.meta
X-WR-CALNAME:teutonavigator Kalender via destination.meta
BEGIN:VEVENT
CATEGORIES:Brauchtum/Kultur
CATEGORIES:Bühne divers
DESCRIPTION:\n\nmehr Informationen unter http://pages.destination.one/de/te
 utonavigator/streaming/detail/Event/e_101261738/wenn-ich-mir-was-w-nschen-
 d-rfte
DTEND;TZID=Europe/Berlin:20260619T230000
DTSTAMP:20260425T150625Z
DTSTART;TZID=Europe/Berlin:20260619T220000
GEO:52.020599;8.531972
LOCATION:Theater am Alten Markt\, Alter Markt 1\, Bielefeld
SEQUENCE:0
SUMMARY:Wenn ich mir was wünschen dürfte
UID:e_101261738_iv0
URL:http://pages.destination.one/de/teutonavigator/streaming/detail/Event/e
 _101261738/wenn-ich-mir-was-w-nschen-d-rfte
END:VEVENT
BEGIN:VTIMEZONE
TZID:Europe/Berlin
X-LIC-LOCATION:Europe/Berlin
BEGIN:DAYLIGHT
DTSTART:19700329T020000
RRULE:FREQ=YEARLY;BYDAY=-1SU;BYMONTH=3
TZNAME:CEST
TZOFFSETFROM:+0100
TZOFFSETTO:+0200
END:DAYLIGHT
BEGIN:STANDARD
DTSTART:19701025T030000
RRULE:FREQ=YEARLY;BYDAY=-1SU;BYMONTH=10
TZNAME:CET
TZOFFSETFROM:+0200
TZOFFSETTO:+0100
END:STANDARD
END:VTIMEZONE
END:VCALENDAR
