BEGIN:VCALENDAR
VERSION:2.0
PRODID:-//destination.one//NONSGML destination.meta API//DE
X-WR-CALDESC:A calendar powered by destination.meta
X-WR-CALNAME:teutonavigator Kalender via destination.meta
BEGIN:VEVENT
CATEGORIES:Konzert divers
CATEGORIES:Vortrag/Lesung
CATEGORIES:Brauchtum/Kultur
DESCRIPTION:Konzert und Lesung\n\nmehr Informationen unter http://pages.des
 tination.one/de/teutonavigator/streaming/detail/Event/e_101261734/lev-tols
 toi-und-peter-tschaikowsky-stimmen-der-menschlichkeit
DTEND;TZID=Europe/Berlin:20260613T220000
DTSTAMP:20260425T152115Z
DTSTART;TZID=Europe/Berlin:20260613T190000
GEO:52.022400;8.530680
LOCATION:Süsterkirche (ev.-ref.)\, Güsenstr. 22\, Bielefeld
SEQUENCE:0
SUMMARY:Lev Tolstoi und Peter Tschaikowsky -Stimmen der Menschlichkeit
UID:e_101261734_iv0
URL:http://pages.destination.one/de/teutonavigator/streaming/detail/Event/e
 _101261734/lev-tolstoi-und-peter-tschaikowsky-stimmen-der-menschlichkeit
END:VEVENT
BEGIN:VTIMEZONE
TZID:Europe/Berlin
X-LIC-LOCATION:Europe/Berlin
BEGIN:DAYLIGHT
DTSTART:19700329T020000
RRULE:FREQ=YEARLY;BYDAY=-1SU;BYMONTH=3
TZNAME:CEST
TZOFFSETFROM:+0100
TZOFFSETTO:+0200
END:DAYLIGHT
BEGIN:STANDARD
DTSTART:19701025T030000
RRULE:FREQ=YEARLY;BYDAY=-1SU;BYMONTH=10
TZNAME:CET
TZOFFSETFROM:+0200
TZOFFSETTO:+0100
END:STANDARD
END:VTIMEZONE
END:VCALENDAR
