BEGIN:VCALENDAR
VERSION:2.0
PRODID:-//destination.one//NONSGML destination.meta API//DE
X-WR-CALDESC:A calendar powered by destination.meta
X-WR-CALNAME:teutonavigator Kalender via destination.meta
BEGIN:VEVENT
CATEGORIES:Brauchtum/Kultur
CATEGORIES:Kabarett
DESCRIPTION:Comedy Club OWL\n\nmehr Informationen unter http://pages.destin
 ation.one/de/teutonavigator/streaming/detail/Event/e_101261731/comedy-nigh
 t-bielefeld
DTEND;TZID=Europe/Berlin:20260522T213000
DTSTAMP:20260425T120441Z
DTSTART;TZID=Europe/Berlin:20260522T193000
GEO:52.023727;8.550172
LOCATION:Cantine\, Bleichstraße 77a\, Bielefeld
SEQUENCE:0
SUMMARY:Comedy Night Bielefeld
UID:e_101261731_iv0
URL:http://pages.destination.one/de/teutonavigator/streaming/detail/Event/e
 _101261731/comedy-night-bielefeld
END:VEVENT
BEGIN:VTIMEZONE
TZID:Europe/Berlin
X-LIC-LOCATION:Europe/Berlin
BEGIN:DAYLIGHT
DTSTART:19700329T020000
RRULE:FREQ=YEARLY;BYDAY=-1SU;BYMONTH=3
TZNAME:CEST
TZOFFSETFROM:+0100
TZOFFSETTO:+0200
END:DAYLIGHT
BEGIN:STANDARD
DTSTART:19701025T030000
RRULE:FREQ=YEARLY;BYDAY=-1SU;BYMONTH=10
TZNAME:CET
TZOFFSETFROM:+0200
TZOFFSETTO:+0100
END:STANDARD
END:VTIMEZONE
END:VCALENDAR
