BEGIN:VCALENDAR
VERSION:2.0
PRODID:-//destination.one//NONSGML destination.meta API//DE
X-WR-CALDESC:A calendar powered by destination.meta
X-WR-CALNAME:teutonavigator Kalender via destination.meta
BEGIN:VEVENT
CATEGORIES:Brauchtum/Kultur
CATEGORIES:Bühne divers
DESCRIPTION:Oper für Kinder\n\nmehr Informationen unter http://pages.destin
 ation.one/de/teutonavigator/streaming/detail/Event/e_101261724/vom-kleinen
 -maulwurf-der-wissen-wollte-wer-ihm-auf-den-kopf-gemacht-hat
DTEND;TZID=Europe/Berlin:20260601T104000
DTSTAMP:20260425T164050Z
DTSTART;TZID=Europe/Berlin:20260601T100000
GEO:52.027900;8.513150
LOCATION:Rudolf-Oetker-Halle\, Lampingstraße 16\, Bielefeld
SEQUENCE:0
SUMMARY:Vom kleinen Maulwurf\, der wissen wollte\, wer ihm auf den Kopf gem
 acht hat
UID:e_101261724_iv0
URL:http://pages.destination.one/de/teutonavigator/streaming/detail/Event/e
 _101261724/vom-kleinen-maulwurf-der-wissen-wollte-wer-ihm-auf-den-kopf-gem
 acht-hat
END:VEVENT
BEGIN:VEVENT
CATEGORIES:Brauchtum/Kultur
CATEGORIES:Bühne divers
DESCRIPTION:Oper für Kinder\n\nmehr Informationen unter http://pages.destin
 ation.one/de/teutonavigator/streaming/detail/Event/e_101261724/vom-kleinen
 -maulwurf-der-wissen-wollte-wer-ihm-auf-den-kopf-gemacht-hat
DTEND;TZID=Europe/Berlin:20260604T154000
DTSTAMP:20260425T164050Z
DTSTART;TZID=Europe/Berlin:20260604T150000
GEO:52.027900;8.513150
LOCATION:Rudolf-Oetker-Halle\, Lampingstraße 16\, Bielefeld
SEQUENCE:0
SUMMARY:Vom kleinen Maulwurf\, der wissen wollte\, wer ihm auf den Kopf gem
 acht hat
UID:e_101261724_iv1
URL:http://pages.destination.one/de/teutonavigator/streaming/detail/Event/e
 _101261724/vom-kleinen-maulwurf-der-wissen-wollte-wer-ihm-auf-den-kopf-gem
 acht-hat
END:VEVENT
BEGIN:VEVENT
CATEGORIES:Brauchtum/Kultur
CATEGORIES:Bühne divers
DESCRIPTION:Oper für Kinder\n\nmehr Informationen unter http://pages.destin
 ation.one/de/teutonavigator/streaming/detail/Event/e_101261724/vom-kleinen
 -maulwurf-der-wissen-wollte-wer-ihm-auf-den-kopf-gemacht-hat
DTEND;TZID=Europe/Berlin:20260614T154000
DTSTAMP:20260425T164050Z
DTSTART;TZID=Europe/Berlin:20260614T150000
GEO:52.027900;8.513150
LOCATION:Rudolf-Oetker-Halle\, Lampingstraße 16\, Bielefeld
SEQUENCE:0
SUMMARY:Vom kleinen Maulwurf\, der wissen wollte\, wer ihm auf den Kopf gem
 acht hat
UID:e_101261724_iv2
URL:http://pages.destination.one/de/teutonavigator/streaming/detail/Event/e
 _101261724/vom-kleinen-maulwurf-der-wissen-wollte-wer-ihm-auf-den-kopf-gem
 acht-hat
END:VEVENT
BEGIN:VTIMEZONE
TZID:Europe/Berlin
X-LIC-LOCATION:Europe/Berlin
BEGIN:DAYLIGHT
DTSTART:19700329T020000
RRULE:FREQ=YEARLY;BYDAY=-1SU;BYMONTH=3
TZNAME:CEST
TZOFFSETFROM:+0100
TZOFFSETTO:+0200
END:DAYLIGHT
BEGIN:STANDARD
DTSTART:19701025T030000
RRULE:FREQ=YEARLY;BYDAY=-1SU;BYMONTH=10
TZNAME:CET
TZOFFSETFROM:+0200
TZOFFSETTO:+0100
END:STANDARD
END:VTIMEZONE
END:VCALENDAR
