BEGIN:VCALENDAR
VERSION:2.0
PRODID:-//destination.one//NONSGML destination.meta API//DE
X-WR-CALDESC:A calendar powered by destination.meta
X-WR-CALNAME:teutonavigator Kalender via destination.meta
BEGIN:VEVENT
CATEGORIES:Konzert divers
CATEGORIES:Brauchtum/Kultur
DESCRIPTION:\n\nmehr Informationen unter http://pages.destination.one/de/te
 utonavigator/streaming/detail/Event/e_101261714/piano-wein-ein-abend-im-st
 udio-nordpark
DTEND;TZID=Europe/Berlin:20260529T210000
DTSTAMP:20260425T122712Z
DTSTART;TZID=Europe/Berlin:20260529T190000
GEO:52.049700;8.518100
LOCATION:Bielefeld-Schildesche\, \, Bielefeld
SEQUENCE:0
SUMMARY:Piano & Wein - ein Abend im Studio Nordpark
UID:e_101261714_iv0
URL:http://pages.destination.one/de/teutonavigator/streaming/detail/Event/e
 _101261714/piano-wein-ein-abend-im-studio-nordpark
END:VEVENT
BEGIN:VTIMEZONE
TZID:Europe/Berlin
X-LIC-LOCATION:Europe/Berlin
BEGIN:DAYLIGHT
DTSTART:19700329T020000
RRULE:FREQ=YEARLY;BYDAY=-1SU;BYMONTH=3
TZNAME:CEST
TZOFFSETFROM:+0100
TZOFFSETTO:+0200
END:DAYLIGHT
BEGIN:STANDARD
DTSTART:19701025T030000
RRULE:FREQ=YEARLY;BYDAY=-1SU;BYMONTH=10
TZNAME:CET
TZOFFSETFROM:+0200
TZOFFSETTO:+0100
END:STANDARD
END:VTIMEZONE
END:VCALENDAR
