BEGIN:VCALENDAR
VERSION:2.0
PRODID:-//destination.one//NONSGML destination.meta API//DE
X-WR-CALDESC:A calendar powered by destination.meta
X-WR-CALNAME:teutonavigator Kalender via destination.meta
BEGIN:VEVENT
CATEGORIES:Sport/Freizeit
CATEGORIES:Sonstiges
DESCRIPTION:\n\nmehr Informationen unter http://pages.destination.one/de/te
 utonavigator/streaming/detail/Event/e_101261699/yoga-auf-dem-stuhl-stuhlyo
 ga
DTEND;TZID=Europe/Berlin:20260512T150000
DTSTAMP:20260425T163940Z
DTSTART;TZID=Europe/Berlin:20260512T140000
GEO:52.043160;8.615030
LOCATION:Bielefeld-Heepen\, \, Bielefeld
SEQUENCE:0
SUMMARY:Yoga auf dem Stuhl/ Stuhlyoga
UID:e_101261699_iv0
URL:http://pages.destination.one/de/teutonavigator/streaming/detail/Event/e
 _101261699/yoga-auf-dem-stuhl-stuhlyoga
END:VEVENT
BEGIN:VEVENT
CATEGORIES:Sport/Freizeit
CATEGORIES:Sonstiges
DESCRIPTION:\n\nmehr Informationen unter http://pages.destination.one/de/te
 utonavigator/streaming/detail/Event/e_101261699/yoga-auf-dem-stuhl-stuhlyo
 ga
DTEND;TZID=Europe/Berlin:20260519T150000
DTSTAMP:20260425T163940Z
DTSTART;TZID=Europe/Berlin:20260519T140000
GEO:52.043160;8.615030
LOCATION:Bielefeld-Heepen\, \, Bielefeld
SEQUENCE:0
SUMMARY:Yoga auf dem Stuhl/ Stuhlyoga
UID:e_101261699_iv1
URL:http://pages.destination.one/de/teutonavigator/streaming/detail/Event/e
 _101261699/yoga-auf-dem-stuhl-stuhlyoga
END:VEVENT
BEGIN:VEVENT
CATEGORIES:Sport/Freizeit
CATEGORIES:Sonstiges
DESCRIPTION:\n\nmehr Informationen unter http://pages.destination.one/de/te
 utonavigator/streaming/detail/Event/e_101261699/yoga-auf-dem-stuhl-stuhlyo
 ga
DTEND;TZID=Europe/Berlin:20260616T150000
DTSTAMP:20260425T163940Z
DTSTART;TZID=Europe/Berlin:20260616T140000
GEO:52.043160;8.615030
LOCATION:Bielefeld-Heepen\, \, Bielefeld
SEQUENCE:0
SUMMARY:Yoga auf dem Stuhl/ Stuhlyoga
UID:e_101261699_iv2
URL:http://pages.destination.one/de/teutonavigator/streaming/detail/Event/e
 _101261699/yoga-auf-dem-stuhl-stuhlyoga
END:VEVENT
BEGIN:VEVENT
CATEGORIES:Sport/Freizeit
CATEGORIES:Sonstiges
DESCRIPTION:\n\nmehr Informationen unter http://pages.destination.one/de/te
 utonavigator/streaming/detail/Event/e_101261699/yoga-auf-dem-stuhl-stuhlyo
 ga
DTEND;TZID=Europe/Berlin:20260623T150000
DTSTAMP:20260425T163940Z
DTSTART;TZID=Europe/Berlin:20260623T140000
GEO:52.043160;8.615030
LOCATION:Bielefeld-Heepen\, \, Bielefeld
SEQUENCE:0
SUMMARY:Yoga auf dem Stuhl/ Stuhlyoga
UID:e_101261699_iv3
URL:http://pages.destination.one/de/teutonavigator/streaming/detail/Event/e
 _101261699/yoga-auf-dem-stuhl-stuhlyoga
END:VEVENT
BEGIN:VEVENT
CATEGORIES:Sport/Freizeit
CATEGORIES:Sonstiges
DESCRIPTION:\n\nmehr Informationen unter http://pages.destination.one/de/te
 utonavigator/streaming/detail/Event/e_101261699/yoga-auf-dem-stuhl-stuhlyo
 ga
DTEND;TZID=Europe/Berlin:20260630T150000
DTSTAMP:20260425T163940Z
DTSTART;TZID=Europe/Berlin:20260630T140000
GEO:52.043160;8.615030
LOCATION:Bielefeld-Heepen\, \, Bielefeld
SEQUENCE:0
SUMMARY:Yoga auf dem Stuhl/ Stuhlyoga
UID:e_101261699_iv4
URL:http://pages.destination.one/de/teutonavigator/streaming/detail/Event/e
 _101261699/yoga-auf-dem-stuhl-stuhlyoga
END:VEVENT
BEGIN:VEVENT
CATEGORIES:Sport/Freizeit
CATEGORIES:Sonstiges
DESCRIPTION:\n\nmehr Informationen unter http://pages.destination.one/de/te
 utonavigator/streaming/detail/Event/e_101261699/yoga-auf-dem-stuhl-stuhlyo
 ga
DTEND;TZID=Europe/Berlin:20260714T150000
DTSTAMP:20260425T163940Z
DTSTART;TZID=Europe/Berlin:20260714T140000
GEO:52.043160;8.615030
LOCATION:Bielefeld-Heepen\, \, Bielefeld
SEQUENCE:0
SUMMARY:Yoga auf dem Stuhl/ Stuhlyoga
UID:e_101261699_iv5
URL:http://pages.destination.one/de/teutonavigator/streaming/detail/Event/e
 _101261699/yoga-auf-dem-stuhl-stuhlyoga
END:VEVENT
BEGIN:VEVENT
CATEGORIES:Sport/Freizeit
CATEGORIES:Sonstiges
DESCRIPTION:\n\nmehr Informationen unter http://pages.destination.one/de/te
 utonavigator/streaming/detail/Event/e_101261699/yoga-auf-dem-stuhl-stuhlyo
 ga
DTEND;TZID=Europe/Berlin:20260721T150000
DTSTAMP:20260425T163940Z
DTSTART;TZID=Europe/Berlin:20260721T140000
GEO:52.043160;8.615030
LOCATION:Bielefeld-Heepen\, \, Bielefeld
SEQUENCE:0
SUMMARY:Yoga auf dem Stuhl/ Stuhlyoga
UID:e_101261699_iv6
URL:http://pages.destination.one/de/teutonavigator/streaming/detail/Event/e
 _101261699/yoga-auf-dem-stuhl-stuhlyoga
END:VEVENT
BEGIN:VEVENT
CATEGORIES:Sport/Freizeit
CATEGORIES:Sonstiges
DESCRIPTION:\n\nmehr Informationen unter http://pages.destination.one/de/te
 utonavigator/streaming/detail/Event/e_101261699/yoga-auf-dem-stuhl-stuhlyo
 ga
DTEND;TZID=Europe/Berlin:20260728T150000
DTSTAMP:20260425T163940Z
DTSTART;TZID=Europe/Berlin:20260728T140000
GEO:52.043160;8.615030
LOCATION:Bielefeld-Heepen\, \, Bielefeld
SEQUENCE:0
SUMMARY:Yoga auf dem Stuhl/ Stuhlyoga
UID:e_101261699_iv7
URL:http://pages.destination.one/de/teutonavigator/streaming/detail/Event/e
 _101261699/yoga-auf-dem-stuhl-stuhlyoga
END:VEVENT
BEGIN:VEVENT
CATEGORIES:Sport/Freizeit
CATEGORIES:Sonstiges
DESCRIPTION:\n\nmehr Informationen unter http://pages.destination.one/de/te
 utonavigator/streaming/detail/Event/e_101261699/yoga-auf-dem-stuhl-stuhlyo
 ga
DTEND;TZID=Europe/Berlin:20260811T150000
DTSTAMP:20260425T163940Z
DTSTART;TZID=Europe/Berlin:20260811T140000
GEO:52.043160;8.615030
LOCATION:Bielefeld-Heepen\, \, Bielefeld
SEQUENCE:0
SUMMARY:Yoga auf dem Stuhl/ Stuhlyoga
UID:e_101261699_iv8
URL:http://pages.destination.one/de/teutonavigator/streaming/detail/Event/e
 _101261699/yoga-auf-dem-stuhl-stuhlyoga
END:VEVENT
BEGIN:VEVENT
CATEGORIES:Sport/Freizeit
CATEGORIES:Sonstiges
DESCRIPTION:\n\nmehr Informationen unter http://pages.destination.one/de/te
 utonavigator/streaming/detail/Event/e_101261699/yoga-auf-dem-stuhl-stuhlyo
 ga
DTEND;TZID=Europe/Berlin:20260818T150000
DTSTAMP:20260425T163940Z
DTSTART;TZID=Europe/Berlin:20260818T140000
GEO:52.043160;8.615030
LOCATION:Bielefeld-Heepen\, \, Bielefeld
SEQUENCE:0
SUMMARY:Yoga auf dem Stuhl/ Stuhlyoga
UID:e_101261699_iv9
URL:http://pages.destination.one/de/teutonavigator/streaming/detail/Event/e
 _101261699/yoga-auf-dem-stuhl-stuhlyoga
END:VEVENT
BEGIN:VTIMEZONE
TZID:Europe/Berlin
X-LIC-LOCATION:Europe/Berlin
BEGIN:DAYLIGHT
DTSTART:19700329T020000
RRULE:FREQ=YEARLY;BYDAY=-1SU;BYMONTH=3
TZNAME:CEST
TZOFFSETFROM:+0100
TZOFFSETTO:+0200
END:DAYLIGHT
BEGIN:STANDARD
DTSTART:19701025T030000
RRULE:FREQ=YEARLY;BYDAY=-1SU;BYMONTH=10
TZNAME:CET
TZOFFSETFROM:+0200
TZOFFSETTO:+0100
END:STANDARD
END:VTIMEZONE
END:VCALENDAR
