BEGIN:VCALENDAR
VERSION:2.0
PRODID:-//destination.one//NONSGML destination.meta API//DE
X-WR-CALDESC:A calendar powered by destination.meta
X-WR-CALNAME:teutonavigator Kalender via destination.meta
BEGIN:VEVENT
CATEGORIES:Sonstiges
CATEGORIES:Vortrag/Lesung
CATEGORIES:Brauchtum/Kultur
DESCRIPTION:Die Startup-Talente von morgen pitchen ihre Ideen - Open Air au
 f der Sparrenburg!\n\nmehr Informationen unter http://pages.destination.on
 e/de/teutonavigator/streaming/detail/Event/e_101261685/pitch-day-der-found
 ers-foundation
DTEND;TZID=Europe/Berlin:20260519T210000
DTSTAMP:20260425T105446Z
DTSTART;TZID=Europe/Berlin:20260519T180000
GEO:52.014900;8.527020
LOCATION:Sparrenburg\, Am Sparrenberg 40\, Bielefeld
SEQUENCE:0
SUMMARY:Pitch Day der Founders Foundation
UID:e_101261685_iv0
URL:http://pages.destination.one/de/teutonavigator/streaming/detail/Event/e
 _101261685/pitch-day-der-founders-foundation
END:VEVENT
BEGIN:VTIMEZONE
TZID:Europe/Berlin
X-LIC-LOCATION:Europe/Berlin
BEGIN:DAYLIGHT
DTSTART:19700329T020000
RRULE:FREQ=YEARLY;BYDAY=-1SU;BYMONTH=3
TZNAME:CEST
TZOFFSETFROM:+0100
TZOFFSETTO:+0200
END:DAYLIGHT
BEGIN:STANDARD
DTSTART:19701025T030000
RRULE:FREQ=YEARLY;BYDAY=-1SU;BYMONTH=10
TZNAME:CET
TZOFFSETFROM:+0200
TZOFFSETTO:+0100
END:STANDARD
END:VTIMEZONE
END:VCALENDAR
