BEGIN:VCALENDAR
VERSION:2.0
PRODID:-//destination.one//NONSGML destination.meta API//DE
X-WR-CALDESC:A calendar powered by destination.meta
X-WR-CALNAME:teutonavigator Kalender via destination.meta
BEGIN:VEVENT
CATEGORIES:Bühne divers
CATEGORIES:Brauchtum/Kultur
DESCRIPTION:Theaterfestival\n\nmehr Informationen unter http://pages.destin
 ation.one/de/teutonavigator/streaming/detail/Event/e_101261649/freifeld-fe
 stival
DTEND;TZID=Europe/Berlin;VALUE=DATE:20260711
DTSTAMP:20260425T121944Z
DTSTART;TZID=Europe/Berlin;VALUE=DATE:20260710
GEO:52.026741;8.528554
LOCATION:Nr. z. P.\, Große-Kurfürsten-Straße 81\, Bielefeld
SEQUENCE:0
SUMMARY:Freifeld Festival
UID:e_101261649_iv0
URL:http://pages.destination.one/de/teutonavigator/streaming/detail/Event/e
 _101261649/freifeld-festival
END:VEVENT
BEGIN:VEVENT
CATEGORIES:Bühne divers
CATEGORIES:Brauchtum/Kultur
DESCRIPTION:Theaterfestival\n\nmehr Informationen unter http://pages.destin
 ation.one/de/teutonavigator/streaming/detail/Event/e_101261649/freifeld-fe
 stival
DTEND;TZID=Europe/Berlin;VALUE=DATE:20260712
DTSTAMP:20260425T121944Z
DTSTART;TZID=Europe/Berlin;VALUE=DATE:20260711
GEO:52.026741;8.528554
LOCATION:Nr. z. P.\, Große-Kurfürsten-Straße 81\, Bielefeld
SEQUENCE:0
SUMMARY:Freifeld Festival
UID:e_101261649_iv1
URL:http://pages.destination.one/de/teutonavigator/streaming/detail/Event/e
 _101261649/freifeld-festival
END:VEVENT
BEGIN:VEVENT
CATEGORIES:Bühne divers
CATEGORIES:Brauchtum/Kultur
DESCRIPTION:Theaterfestival\n\nmehr Informationen unter http://pages.destin
 ation.one/de/teutonavigator/streaming/detail/Event/e_101261649/freifeld-fe
 stival
DTEND;TZID=Europe/Berlin;VALUE=DATE:20260713
DTSTAMP:20260425T121944Z
DTSTART;TZID=Europe/Berlin;VALUE=DATE:20260712
GEO:52.026741;8.528554
LOCATION:Nr. z. P.\, Große-Kurfürsten-Straße 81\, Bielefeld
SEQUENCE:0
SUMMARY:Freifeld Festival
UID:e_101261649_iv2
URL:http://pages.destination.one/de/teutonavigator/streaming/detail/Event/e
 _101261649/freifeld-festival
END:VEVENT
BEGIN:VTIMEZONE
TZID:Europe/Berlin
X-LIC-LOCATION:Europe/Berlin
BEGIN:DAYLIGHT
DTSTART:19700329T020000
RRULE:FREQ=YEARLY;BYDAY=-1SU;BYMONTH=3
TZNAME:CEST
TZOFFSETFROM:+0100
TZOFFSETTO:+0200
END:DAYLIGHT
BEGIN:STANDARD
DTSTART:19701025T030000
RRULE:FREQ=YEARLY;BYDAY=-1SU;BYMONTH=10
TZNAME:CET
TZOFFSETFROM:+0200
TZOFFSETTO:+0100
END:STANDARD
END:VTIMEZONE
END:VCALENDAR
