BEGIN:VCALENDAR
VERSION:2.0
PRODID:-//destination.one//NONSGML destination.meta API//DE
X-WR-CALDESC:A calendar powered by destination.meta
X-WR-CALNAME:teutonavigator Kalender via destination.meta
BEGIN:VEVENT
CATEGORIES:Brauchtum/Kultur
DESCRIPTION:Tanzfestival Bielefeld\n\nmehr Informationen unter http://pages
 .destination.one/de/teutonavigator/streaming/detail/Event/e_101261624/labo
 ration-art-company-laura-arend-iara
DTEND;TZID=Europe/Berlin:20260723T235900
DTSTAMP:20260425T152114Z
DTSTART;TZID=Europe/Berlin:20260723T203000
GEO:52.018800;8.541000
LOCATION:Tor 6 Theaterhaus Bielefeld\, Hermann-Kleinewächter-Str. 4\, Biele
 feld
SEQUENCE:0
SUMMARY:Laboration Art Company – Laura Arend: »Iara«
UID:e_101261624_iv0
URL:http://pages.destination.one/de/teutonavigator/streaming/detail/Event/e
 _101261624/laboration-art-company-laura-arend-iara
END:VEVENT
BEGIN:VTIMEZONE
TZID:Europe/Berlin
X-LIC-LOCATION:Europe/Berlin
BEGIN:DAYLIGHT
DTSTART:19700329T020000
RRULE:FREQ=YEARLY;BYDAY=-1SU;BYMONTH=3
TZNAME:CEST
TZOFFSETFROM:+0100
TZOFFSETTO:+0200
END:DAYLIGHT
BEGIN:STANDARD
DTSTART:19701025T030000
RRULE:FREQ=YEARLY;BYDAY=-1SU;BYMONTH=10
TZNAME:CET
TZOFFSETFROM:+0200
TZOFFSETTO:+0100
END:STANDARD
END:VTIMEZONE
END:VCALENDAR
