BEGIN:VCALENDAR
VERSION:2.0
PRODID:-//destination.one//NONSGML destination.meta API//DE
X-WR-CALDESC:A calendar powered by destination.meta
X-WR-CALNAME:teutonavigator Kalender via destination.meta
BEGIN:VEVENT
CATEGORIES:Kabarett
DESCRIPTION:\n\nmehr Informationen unter http://pages.destination.one/de/te
 utonavigator/streaming/detail/Event/e_101261610/theater-im-park-peter-voll
 mer-frauen-verbl-hen-m-nner-verduften
DTEND;TZID=Europe/Berlin:20231207T213000
DTSTAMP:20260425T140027Z
DTSTART;TZID=Europe/Berlin:20231207T193000
GEO:51.736746;9.031792
LOCATION:Brunnenarkaden\, Gräflicher Park\, Brunnenallee 1\, Bad Driburg
ORGANIZER;CN=Café & Zimmertheater:http://www.cafe-zimmertheater.de/
SEQUENCE:0
SUMMARY:Theater im Park: Peter Vollmer - "Frauen verblühen\, Männer verduft
 en"
UID:e_101261610_iv0
URL:http://pages.destination.one/de/teutonavigator/streaming/detail/Event/e
 _101261610/theater-im-park-peter-vollmer-frauen-verbl-hen-m-nner-verduften
END:VEVENT
BEGIN:VEVENT
CATEGORIES:Kabarett
DESCRIPTION:\n\nmehr Informationen unter http://pages.destination.one/de/te
 utonavigator/streaming/detail/Event/e_101261610/theater-im-park-peter-voll
 mer-frauen-verbl-hen-m-nner-verduften
DTEND;TZID=Europe/Berlin:20270212T235900
DTSTAMP:20260425T140027Z
DTSTART;TZID=Europe/Berlin:20270212T193000
GEO:51.736746;9.031792
LOCATION:Brunnenarkaden\, Gräflicher Park\, Brunnenallee 1\, Bad Driburg
ORGANIZER;CN=Café & Zimmertheater:http://www.cafe-zimmertheater.de/
SEQUENCE:0
SUMMARY:Theater im Park: Peter Vollmer - "Frauen verblühen\, Männer verduft
 en"
UID:e_101261610_iv1
URL:http://pages.destination.one/de/teutonavigator/streaming/detail/Event/e
 _101261610/theater-im-park-peter-vollmer-frauen-verbl-hen-m-nner-verduften
END:VEVENT
BEGIN:VTIMEZONE
TZID:Europe/Berlin
X-LIC-LOCATION:Europe/Berlin
BEGIN:DAYLIGHT
DTSTART:19700329T020000
RRULE:FREQ=YEARLY;BYDAY=-1SU;BYMONTH=3
TZNAME:CEST
TZOFFSETFROM:+0100
TZOFFSETTO:+0200
END:DAYLIGHT
BEGIN:STANDARD
DTSTART:19701025T030000
RRULE:FREQ=YEARLY;BYDAY=-1SU;BYMONTH=10
TZNAME:CET
TZOFFSETFROM:+0200
TZOFFSETTO:+0100
END:STANDARD
END:VTIMEZONE
END:VCALENDAR
