BEGIN:VCALENDAR
VERSION:2.0
PRODID:-//destination.one//NONSGML destination.meta API//DE
X-WR-CALDESC:A calendar powered by destination.meta
X-WR-CALNAME:teutonavigator Kalender via destination.meta
BEGIN:VEVENT
CATEGORIES:Familie und Kinder
CATEGORIES:Vortrag/Lesung
DESCRIPTION:\n\nmehr Informationen unter http://pages.destination.one/de/te
 utonavigator/streaming/detail/Event/e_101261587/medienfestival
DTEND;TZID=Europe/Berlin:20260508T180000
DTSTAMP:20260425T122715Z
DTSTART;TZID=Europe/Berlin:20260508T150000
GEO:51.719804;8.754945
LOCATION:Stadtbibliothek (Zentralbibliothek)\, Am Rothoborn 1\, Paderborn
ORGANIZER;CN=Stadtbibliothek (Zentralbibliothek):mailto:stadtbibliothek@pad
 erborn.de
SEQUENCE:0
SUMMARY:Medienfestival
UID:e_101261587_iv0
URL:http://pages.destination.one/de/teutonavigator/streaming/detail/Event/e
 _101261587/medienfestival
END:VEVENT
BEGIN:VTIMEZONE
TZID:Europe/Berlin
X-LIC-LOCATION:Europe/Berlin
BEGIN:DAYLIGHT
DTSTART:19700329T020000
RRULE:FREQ=YEARLY;BYDAY=-1SU;BYMONTH=3
TZNAME:CEST
TZOFFSETFROM:+0100
TZOFFSETTO:+0200
END:DAYLIGHT
BEGIN:STANDARD
DTSTART:19701025T030000
RRULE:FREQ=YEARLY;BYDAY=-1SU;BYMONTH=10
TZNAME:CET
TZOFFSETFROM:+0200
TZOFFSETTO:+0100
END:STANDARD
END:VTIMEZONE
END:VCALENDAR
