BEGIN:VCALENDAR
VERSION:2.0
PRODID:-//destination.one//NONSGML destination.meta API//DE
X-WR-CALDESC:A calendar powered by destination.meta
X-WR-CALNAME:teutonavigator Kalender via destination.meta
BEGIN:VEVENT
CATEGORIES:Kinderprogramm
DESCRIPTION:Für Kinder ab 8 Jahren\n\nmehr Informationen unter http://pages
 .destination.one/de/teutonavigator/streaming/detail/Event/e_101261583/b-ch
 er-bingo-f-r-kinder
DTEND;TZID=Europe/Berlin:20260506T170000
DTSTAMP:20260425T151812Z
DTSTART;TZID=Europe/Berlin:20260506T160000
GEO:51.746898;8.710314
LOCATION:Schlossbibliothek\, Im Schloßpark 20\, Paderborn
ORGANIZER;CN=Schlossbibliothek:mailto:stadtbibliothek@paderborn.de
SEQUENCE:0
SUMMARY:Bücher-Bingo für Kinder
UID:e_101261583_iv0
URL:http://pages.destination.one/de/teutonavigator/streaming/detail/Event/e
 _101261583/b-cher-bingo-f-r-kinder
END:VEVENT
BEGIN:VTIMEZONE
TZID:Europe/Berlin
X-LIC-LOCATION:Europe/Berlin
BEGIN:DAYLIGHT
DTSTART:19700329T020000
RRULE:FREQ=YEARLY;BYDAY=-1SU;BYMONTH=3
TZNAME:CEST
TZOFFSETFROM:+0100
TZOFFSETTO:+0200
END:DAYLIGHT
BEGIN:STANDARD
DTSTART:19701025T030000
RRULE:FREQ=YEARLY;BYDAY=-1SU;BYMONTH=10
TZNAME:CET
TZOFFSETFROM:+0200
TZOFFSETTO:+0100
END:STANDARD
END:VTIMEZONE
END:VCALENDAR
