BEGIN:VCALENDAR
VERSION:2.0
PRODID:-//destination.one//NONSGML destination.meta API//DE
X-WR-CALDESC:A calendar powered by destination.meta
X-WR-CALNAME:teutonavigator Kalender via destination.meta
BEGIN:VEVENT
CATEGORIES:Kinderprogramm
DESCRIPTION:Erzähltheater\n\nmehr Informationen unter http://pages.destinat
 ion.one/de/teutonavigator/streaming/detail/Event/e_101261503/der-kleine-b-
 r-und-sein-kleines-boot
DTEND;TZID=Europe/Berlin:20260616T235900
DTSTAMP:20260425T122713Z
DTSTART;TZID=Europe/Berlin:20260616T160000
GEO:51.721062;8.759732
LOCATION:Medienzentrum im Erzbistum Paderborn\, Am Stadelhof 10\, Paderborn
ORGANIZER;CN=Medienzentrum im Erzbistum Paderborn:mailto:mzpb@erzbistum-pad
 erborn.de
SEQUENCE:0
SUMMARY:Der kleine Bär und sein kleines Boot
UID:e_101261503_iv0
URL:http://pages.destination.one/de/teutonavigator/streaming/detail/Event/e
 _101261503/der-kleine-b-r-und-sein-kleines-boot
END:VEVENT
BEGIN:VTIMEZONE
TZID:Europe/Berlin
X-LIC-LOCATION:Europe/Berlin
BEGIN:DAYLIGHT
DTSTART:19700329T020000
RRULE:FREQ=YEARLY;BYDAY=-1SU;BYMONTH=3
TZNAME:CEST
TZOFFSETFROM:+0100
TZOFFSETTO:+0200
END:DAYLIGHT
BEGIN:STANDARD
DTSTART:19701025T030000
RRULE:FREQ=YEARLY;BYDAY=-1SU;BYMONTH=10
TZNAME:CET
TZOFFSETFROM:+0200
TZOFFSETTO:+0100
END:STANDARD
END:VTIMEZONE
END:VCALENDAR
