BEGIN:VCALENDAR
VERSION:2.0
PRODID:-//destination.one//NONSGML destination.meta API//DE
X-WR-CALDESC:A calendar powered by destination.meta
X-WR-CALNAME:teutonavigator Kalender via destination.meta
BEGIN:VEVENT
CATEGORIES:Kinder- und Jugendtheater
CATEGORIES:Familie und Kinder
DESCRIPTION:Ferienprogramm "Kreative Schmuckgestaltung" im Mindener Museum\
 n\nmehr Informationen unter http://pages.destination.one/de/teutonavigator
 /streaming/detail/Event/e_101261131/ferienprogramm-kreative-schmuckgestalt
 ung
DTEND;TZID=Europe/Berlin:20260826T120000
DTSTAMP:20260425T105438Z
DTSTART;TZID=Europe/Berlin:20260826T090000
GEO:52.287968;8.913842
LOCATION:Mindener Museum\, Ritterstr. 23-33\, Minden
ORGANIZER;CN=Mindener Museum:mailto:museum@minden.de
RRULE:FREQ=WEEKLY;UNTIL=20260826T220000;BYDAY=WE
SEQUENCE:0
SUMMARY:Ferienprogramm " Kreative Schmuckgestaltung"
UID:e_101261131_iv0
URL:http://pages.destination.one/de/teutonavigator/streaming/detail/Event/e
 _101261131/ferienprogramm-kreative-schmuckgestaltung
END:VEVENT
BEGIN:VTIMEZONE
TZID:Europe/Berlin
X-LIC-LOCATION:Europe/Berlin
BEGIN:DAYLIGHT
DTSTART:19700329T020000
RRULE:FREQ=YEARLY;BYDAY=-1SU;BYMONTH=3
TZNAME:CEST
TZOFFSETFROM:+0100
TZOFFSETTO:+0200
END:DAYLIGHT
BEGIN:STANDARD
DTSTART:19701025T030000
RRULE:FREQ=YEARLY;BYDAY=-1SU;BYMONTH=10
TZNAME:CET
TZOFFSETFROM:+0200
TZOFFSETTO:+0100
END:STANDARD
END:VTIMEZONE
END:VCALENDAR
