BEGIN:VCALENDAR
VERSION:2.0
PRODID:-//destination.one//NONSGML destination.meta API//DE
X-WR-CALDESC:A calendar powered by destination.meta
X-WR-CALNAME:teutonavigator Kalender via destination.meta
BEGIN:VEVENT
CATEGORIES:Familie und Kinder
CATEGORIES:Kinder- und Jugendtheater
DESCRIPTION:Ferienprogramm "Archäolog*innen unterwegs" im Mindener Museum\n
 \nmehr Informationen unter http://pages.destination.one/de/teutonavigator/
 streaming/detail/Event/e_101261125/ferienprogramm-arch-olog-innen-unterweg
 s
DTEND;TZID=Europe/Berlin:20260722T120000
DTSTAMP:20260425T122014Z
DTSTART;TZID=Europe/Berlin:20260722T090000
GEO:52.287968;8.913842
LOCATION:Mindener Museum\, Ritterstr. 23-33\, Minden
ORGANIZER;CN=Mindener Museum:mailto:museum@minden.de
RRULE:FREQ=WEEKLY;UNTIL=20260722T220000;BYDAY=WE
SEQUENCE:0
SUMMARY:Ferienprogramm "Archäolog*innen unterwegs"
UID:e_101261125_iv0
URL:http://pages.destination.one/de/teutonavigator/streaming/detail/Event/e
 _101261125/ferienprogramm-arch-olog-innen-unterwegs
END:VEVENT
BEGIN:VTIMEZONE
TZID:Europe/Berlin
X-LIC-LOCATION:Europe/Berlin
BEGIN:DAYLIGHT
DTSTART:19700329T020000
RRULE:FREQ=YEARLY;BYDAY=-1SU;BYMONTH=3
TZNAME:CEST
TZOFFSETFROM:+0100
TZOFFSETTO:+0200
END:DAYLIGHT
BEGIN:STANDARD
DTSTART:19701025T030000
RRULE:FREQ=YEARLY;BYDAY=-1SU;BYMONTH=10
TZNAME:CET
TZOFFSETFROM:+0200
TZOFFSETTO:+0100
END:STANDARD
END:VTIMEZONE
END:VCALENDAR
