BEGIN:VCALENDAR
VERSION:2.0
PRODID:-//destination.one//NONSGML destination.meta API//DE
X-WR-CALDESC:A calendar powered by destination.meta
X-WR-CALNAME:teutonavigator Kalender via destination.meta
BEGIN:VEVENT
CATEGORIES:Sakralmusik
DESCRIPTION:\n\nmehr Informationen unter http://pages.destination.one/de/te
 utonavigator/streaming/detail/Event/e_101260989/orgelsommer-bernadetta-una
 vsk
DTEND;TZID=Europe/Berlin:20260619T235900
DTSTAMP:20260425T104416Z
DTSTART;TZID=Europe/Berlin:20260619T193000
GEO:51.718960;8.755857
LOCATION:Dom St. Maria\, St. Liborius und St. Kilian Paderborn\, Domplatz\,
  Paderborn
ORGANIZER;CN=Metropolitankapitel Paderborn:mailto:metropolitankapitel@erzbi
 stum-paderborn.de
PRIORITY:4
SEQUENCE:0
SUMMARY:Orgelsommer: Bernadetta Šunavská
UID:e_101260989_iv0
URL:http://pages.destination.one/de/teutonavigator/streaming/detail/Event/e
 _101260989/orgelsommer-bernadetta-unavsk
END:VEVENT
BEGIN:VTIMEZONE
TZID:Europe/Berlin
X-LIC-LOCATION:Europe/Berlin
BEGIN:DAYLIGHT
DTSTART:19700329T020000
RRULE:FREQ=YEARLY;BYDAY=-1SU;BYMONTH=3
TZNAME:CEST
TZOFFSETFROM:+0100
TZOFFSETTO:+0200
END:DAYLIGHT
BEGIN:STANDARD
DTSTART:19701025T030000
RRULE:FREQ=YEARLY;BYDAY=-1SU;BYMONTH=10
TZNAME:CET
TZOFFSETFROM:+0200
TZOFFSETTO:+0100
END:STANDARD
END:VTIMEZONE
END:VCALENDAR
