BEGIN:VCALENDAR
VERSION:2.0
PRODID:-//destination.one//NONSGML destination.meta API//DE
X-WR-CALDESC:A calendar powered by destination.meta
X-WR-CALNAME:teutonavigator Kalender via destination.meta
BEGIN:VEVENT
CATEGORIES:Sakralmusik
DESCRIPTION:\n\nmehr Informationen unter http://pages.destination.one/de/te
 utonavigator/streaming/detail/Event/e_101260972/angelusmatin-e
DTEND;TZID=Europe/Berlin:20260425T235900
DTSTAMP:20260425T132538Z
DTSTART;TZID=Europe/Berlin:20260425T120000
GEO:51.718960;8.755857
LOCATION:Dom St. Maria\, St. Liborius und St. Kilian Paderborn\, Domplatz\,
  Paderborn
ORGANIZER;CN=Metropolitankapitel Paderborn:mailto:metropolitankapitel@erzbi
 stum-paderborn.de
SEQUENCE:0
SUMMARY:Angelusmatinée
UID:e_101260972_iv0
URL:http://pages.destination.one/de/teutonavigator/streaming/detail/Event/e
 _101260972/angelusmatin-e
END:VEVENT
BEGIN:VEVENT
CATEGORIES:Sakralmusik
DESCRIPTION:\n\nmehr Informationen unter http://pages.destination.one/de/te
 utonavigator/streaming/detail/Event/e_101260972/angelusmatin-e
DTEND;TZID=Europe/Berlin:20260502T235900
DTSTAMP:20260425T132538Z
DTSTART;TZID=Europe/Berlin:20260502T120000
GEO:51.718960;8.755857
LOCATION:Dom St. Maria\, St. Liborius und St. Kilian Paderborn\, Domplatz\,
  Paderborn
ORGANIZER;CN=Metropolitankapitel Paderborn:mailto:metropolitankapitel@erzbi
 stum-paderborn.de
SEQUENCE:0
SUMMARY:Angelusmatinée
UID:e_101260972_iv1
URL:http://pages.destination.one/de/teutonavigator/streaming/detail/Event/e
 _101260972/angelusmatin-e
END:VEVENT
BEGIN:VEVENT
CATEGORIES:Sakralmusik
DESCRIPTION:\n\nmehr Informationen unter http://pages.destination.one/de/te
 utonavigator/streaming/detail/Event/e_101260972/angelusmatin-e
DTEND;TZID=Europe/Berlin:20260509T235900
DTSTAMP:20260425T132538Z
DTSTART;TZID=Europe/Berlin:20260509T120000
GEO:51.718960;8.755857
LOCATION:Dom St. Maria\, St. Liborius und St. Kilian Paderborn\, Domplatz\,
  Paderborn
ORGANIZER;CN=Metropolitankapitel Paderborn:mailto:metropolitankapitel@erzbi
 stum-paderborn.de
SEQUENCE:0
SUMMARY:Angelusmatinée
UID:e_101260972_iv2
URL:http://pages.destination.one/de/teutonavigator/streaming/detail/Event/e
 _101260972/angelusmatin-e
END:VEVENT
BEGIN:VEVENT
CATEGORIES:Sakralmusik
DESCRIPTION:\n\nmehr Informationen unter http://pages.destination.one/de/te
 utonavigator/streaming/detail/Event/e_101260972/angelusmatin-e
DTEND;TZID=Europe/Berlin:20260516T235900
DTSTAMP:20260425T132538Z
DTSTART;TZID=Europe/Berlin:20260516T120000
GEO:51.718960;8.755857
LOCATION:Dom St. Maria\, St. Liborius und St. Kilian Paderborn\, Domplatz\,
  Paderborn
ORGANIZER;CN=Metropolitankapitel Paderborn:mailto:metropolitankapitel@erzbi
 stum-paderborn.de
SEQUENCE:0
SUMMARY:Angelusmatinée
UID:e_101260972_iv3
URL:http://pages.destination.one/de/teutonavigator/streaming/detail/Event/e
 _101260972/angelusmatin-e
END:VEVENT
BEGIN:VEVENT
CATEGORIES:Sakralmusik
DESCRIPTION:\n\nmehr Informationen unter http://pages.destination.one/de/te
 utonavigator/streaming/detail/Event/e_101260972/angelusmatin-e
DTEND;TZID=Europe/Berlin:20260606T235900
DTSTAMP:20260425T132538Z
DTSTART;TZID=Europe/Berlin:20260606T120000
GEO:51.718960;8.755857
LOCATION:Dom St. Maria\, St. Liborius und St. Kilian Paderborn\, Domplatz\,
  Paderborn
ORGANIZER;CN=Metropolitankapitel Paderborn:mailto:metropolitankapitel@erzbi
 stum-paderborn.de
SEQUENCE:0
SUMMARY:Angelusmatinée
UID:e_101260972_iv4
URL:http://pages.destination.one/de/teutonavigator/streaming/detail/Event/e
 _101260972/angelusmatin-e
END:VEVENT
BEGIN:VEVENT
CATEGORIES:Sakralmusik
DESCRIPTION:\n\nmehr Informationen unter http://pages.destination.one/de/te
 utonavigator/streaming/detail/Event/e_101260972/angelusmatin-e
DTEND;TZID=Europe/Berlin:20260613T235900
DTSTAMP:20260425T132538Z
DTSTART;TZID=Europe/Berlin:20260613T120000
GEO:51.718960;8.755857
LOCATION:Dom St. Maria\, St. Liborius und St. Kilian Paderborn\, Domplatz\,
  Paderborn
ORGANIZER;CN=Metropolitankapitel Paderborn:mailto:metropolitankapitel@erzbi
 stum-paderborn.de
SEQUENCE:0
SUMMARY:Angelusmatinée
UID:e_101260972_iv5
URL:http://pages.destination.one/de/teutonavigator/streaming/detail/Event/e
 _101260972/angelusmatin-e
END:VEVENT
BEGIN:VEVENT
CATEGORIES:Sakralmusik
DESCRIPTION:\n\nmehr Informationen unter http://pages.destination.one/de/te
 utonavigator/streaming/detail/Event/e_101260972/angelusmatin-e
DTEND;TZID=Europe/Berlin:20260620T235900
DTSTAMP:20260425T132538Z
DTSTART;TZID=Europe/Berlin:20260620T120000
GEO:51.718960;8.755857
LOCATION:Dom St. Maria\, St. Liborius und St. Kilian Paderborn\, Domplatz\,
  Paderborn
ORGANIZER;CN=Metropolitankapitel Paderborn:mailto:metropolitankapitel@erzbi
 stum-paderborn.de
SEQUENCE:0
SUMMARY:Angelusmatinée
UID:e_101260972_iv6
URL:http://pages.destination.one/de/teutonavigator/streaming/detail/Event/e
 _101260972/angelusmatin-e
END:VEVENT
BEGIN:VEVENT
CATEGORIES:Sakralmusik
DESCRIPTION:\n\nmehr Informationen unter http://pages.destination.one/de/te
 utonavigator/streaming/detail/Event/e_101260972/angelusmatin-e
DTEND;TZID=Europe/Berlin:20260627T235900
DTSTAMP:20260425T132538Z
DTSTART;TZID=Europe/Berlin:20260627T120000
GEO:51.718960;8.755857
LOCATION:Dom St. Maria\, St. Liborius und St. Kilian Paderborn\, Domplatz\,
  Paderborn
ORGANIZER;CN=Metropolitankapitel Paderborn:mailto:metropolitankapitel@erzbi
 stum-paderborn.de
SEQUENCE:0
SUMMARY:Angelusmatinée
UID:e_101260972_iv7
URL:http://pages.destination.one/de/teutonavigator/streaming/detail/Event/e
 _101260972/angelusmatin-e
END:VEVENT
BEGIN:VEVENT
CATEGORIES:Sakralmusik
DESCRIPTION:\n\nmehr Informationen unter http://pages.destination.one/de/te
 utonavigator/streaming/detail/Event/e_101260972/angelusmatin-e
DTEND;TZID=Europe/Berlin:20260704T235900
DTSTAMP:20260425T132538Z
DTSTART;TZID=Europe/Berlin:20260704T120000
GEO:51.718960;8.755857
LOCATION:Dom St. Maria\, St. Liborius und St. Kilian Paderborn\, Domplatz\,
  Paderborn
ORGANIZER;CN=Metropolitankapitel Paderborn:mailto:metropolitankapitel@erzbi
 stum-paderborn.de
SEQUENCE:0
SUMMARY:Angelusmatinée
UID:e_101260972_iv8
URL:http://pages.destination.one/de/teutonavigator/streaming/detail/Event/e
 _101260972/angelusmatin-e
END:VEVENT
BEGIN:VEVENT
CATEGORIES:Sakralmusik
DESCRIPTION:\n\nmehr Informationen unter http://pages.destination.one/de/te
 utonavigator/streaming/detail/Event/e_101260972/angelusmatin-e
DTEND;TZID=Europe/Berlin:20260711T235900
DTSTAMP:20260425T132538Z
DTSTART;TZID=Europe/Berlin:20260711T120000
GEO:51.718960;8.755857
LOCATION:Dom St. Maria\, St. Liborius und St. Kilian Paderborn\, Domplatz\,
  Paderborn
ORGANIZER;CN=Metropolitankapitel Paderborn:mailto:metropolitankapitel@erzbi
 stum-paderborn.de
SEQUENCE:0
SUMMARY:Angelusmatinée
UID:e_101260972_iv9
URL:http://pages.destination.one/de/teutonavigator/streaming/detail/Event/e
 _101260972/angelusmatin-e
END:VEVENT
BEGIN:VEVENT
CATEGORIES:Sakralmusik
DESCRIPTION:\n\nmehr Informationen unter http://pages.destination.one/de/te
 utonavigator/streaming/detail/Event/e_101260972/angelusmatin-e
DTEND;TZID=Europe/Berlin:20260718T235900
DTSTAMP:20260425T132538Z
DTSTART;TZID=Europe/Berlin:20260718T120000
GEO:51.718960;8.755857
LOCATION:Dom St. Maria\, St. Liborius und St. Kilian Paderborn\, Domplatz\,
  Paderborn
ORGANIZER;CN=Metropolitankapitel Paderborn:mailto:metropolitankapitel@erzbi
 stum-paderborn.de
SEQUENCE:0
SUMMARY:Angelusmatinée
UID:e_101260972_iv10
URL:http://pages.destination.one/de/teutonavigator/streaming/detail/Event/e
 _101260972/angelusmatin-e
END:VEVENT
BEGIN:VEVENT
CATEGORIES:Sakralmusik
DESCRIPTION:\n\nmehr Informationen unter http://pages.destination.one/de/te
 utonavigator/streaming/detail/Event/e_101260972/angelusmatin-e
DTEND;TZID=Europe/Berlin:20260905T235900
DTSTAMP:20260425T132538Z
DTSTART;TZID=Europe/Berlin:20260905T120000
GEO:51.718960;8.755857
LOCATION:Dom St. Maria\, St. Liborius und St. Kilian Paderborn\, Domplatz\,
  Paderborn
ORGANIZER;CN=Metropolitankapitel Paderborn:mailto:metropolitankapitel@erzbi
 stum-paderborn.de
SEQUENCE:0
SUMMARY:Angelusmatinée
UID:e_101260972_iv11
URL:http://pages.destination.one/de/teutonavigator/streaming/detail/Event/e
 _101260972/angelusmatin-e
END:VEVENT
BEGIN:VEVENT
CATEGORIES:Sakralmusik
DESCRIPTION:\n\nmehr Informationen unter http://pages.destination.one/de/te
 utonavigator/streaming/detail/Event/e_101260972/angelusmatin-e
DTEND;TZID=Europe/Berlin:20261003T235900
DTSTAMP:20260425T132538Z
DTSTART;TZID=Europe/Berlin:20261003T120000
GEO:51.718960;8.755857
LOCATION:Dom St. Maria\, St. Liborius und St. Kilian Paderborn\, Domplatz\,
  Paderborn
ORGANIZER;CN=Metropolitankapitel Paderborn:mailto:metropolitankapitel@erzbi
 stum-paderborn.de
SEQUENCE:0
SUMMARY:Angelusmatinée
UID:e_101260972_iv12
URL:http://pages.destination.one/de/teutonavigator/streaming/detail/Event/e
 _101260972/angelusmatin-e
END:VEVENT
BEGIN:VEVENT
CATEGORIES:Sakralmusik
DESCRIPTION:\n\nmehr Informationen unter http://pages.destination.one/de/te
 utonavigator/streaming/detail/Event/e_101260972/angelusmatin-e
DTEND;TZID=Europe/Berlin:20261107T235900
DTSTAMP:20260425T132538Z
DTSTART;TZID=Europe/Berlin:20261107T120000
GEO:51.718960;8.755857
LOCATION:Dom St. Maria\, St. Liborius und St. Kilian Paderborn\, Domplatz\,
  Paderborn
ORGANIZER;CN=Metropolitankapitel Paderborn:mailto:metropolitankapitel@erzbi
 stum-paderborn.de
SEQUENCE:0
SUMMARY:Angelusmatinée
UID:e_101260972_iv13
URL:http://pages.destination.one/de/teutonavigator/streaming/detail/Event/e
 _101260972/angelusmatin-e
END:VEVENT
BEGIN:VEVENT
CATEGORIES:Sakralmusik
DESCRIPTION:\n\nmehr Informationen unter http://pages.destination.one/de/te
 utonavigator/streaming/detail/Event/e_101260972/angelusmatin-e
DTEND;TZID=Europe/Berlin:20261205T235900
DTSTAMP:20260425T132538Z
DTSTART;TZID=Europe/Berlin:20261205T120000
GEO:51.718960;8.755857
LOCATION:Dom St. Maria\, St. Liborius und St. Kilian Paderborn\, Domplatz\,
  Paderborn
ORGANIZER;CN=Metropolitankapitel Paderborn:mailto:metropolitankapitel@erzbi
 stum-paderborn.de
SEQUENCE:0
SUMMARY:Angelusmatinée
UID:e_101260972_iv14
URL:http://pages.destination.one/de/teutonavigator/streaming/detail/Event/e
 _101260972/angelusmatin-e
END:VEVENT
BEGIN:VTIMEZONE
TZID:Europe/Berlin
X-LIC-LOCATION:Europe/Berlin
BEGIN:DAYLIGHT
DTSTART:19700329T020000
RRULE:FREQ=YEARLY;BYDAY=-1SU;BYMONTH=3
TZNAME:CEST
TZOFFSETFROM:+0100
TZOFFSETTO:+0200
END:DAYLIGHT
BEGIN:STANDARD
DTSTART:19701025T030000
RRULE:FREQ=YEARLY;BYDAY=-1SU;BYMONTH=10
TZNAME:CET
TZOFFSETFROM:+0200
TZOFFSETTO:+0100
END:STANDARD
END:VTIMEZONE
END:VCALENDAR
