BEGIN:VCALENDAR
VERSION:2.0
PRODID:-//destination.one//NONSGML destination.meta API//DE
X-WR-CALDESC:A calendar powered by destination.meta
X-WR-CALNAME:teutonavigator Kalender via destination.meta
BEGIN:VEVENT
CATEGORIES:Kinderprogramm
CATEGORIES:Kirche
DESCRIPTION:\n\nmehr Informationen unter http://pages.destination.one/de/te
 utonavigator/streaming/detail/Event/e_101260934/kinderwallfahrt-im-erzbist
 um-paderborn
DTEND;TZID=Europe/Berlin:20260531T235900
DTSTAMP:20260425T151812Z
DTSTART;TZID=Europe/Berlin:20260531T100000
GEO:51.730155;8.748994
LOCATION:Schützenhof\, Schützenplatz 1\, Paderborn
ORGANIZER;CN=Erzbistum Paderborn:mailto:info@erzbistum-paderborn.de
SEQUENCE:0
SUMMARY:Kinderwallfahrt im Erzbistum Paderborn
UID:e_101260934_iv0
URL:http://pages.destination.one/de/teutonavigator/streaming/detail/Event/e
 _101260934/kinderwallfahrt-im-erzbistum-paderborn
END:VEVENT
BEGIN:VTIMEZONE
TZID:Europe/Berlin
X-LIC-LOCATION:Europe/Berlin
BEGIN:DAYLIGHT
DTSTART:19700329T020000
RRULE:FREQ=YEARLY;BYDAY=-1SU;BYMONTH=3
TZNAME:CEST
TZOFFSETFROM:+0100
TZOFFSETTO:+0200
END:DAYLIGHT
BEGIN:STANDARD
DTSTART:19701025T030000
RRULE:FREQ=YEARLY;BYDAY=-1SU;BYMONTH=10
TZNAME:CET
TZOFFSETFROM:+0200
TZOFFSETTO:+0100
END:STANDARD
END:VTIMEZONE
END:VCALENDAR
