BEGIN:VCALENDAR
VERSION:2.0
PRODID:-//destination.one//NONSGML destination.meta API//DE
X-WR-CALDESC:A calendar powered by destination.meta
X-WR-CALNAME:teutonavigator Kalender via destination.meta
BEGIN:VEVENT
CATEGORIES:Konzert divers
DESCRIPTION:Am Samstag\, den 4. Juli 2026\, um 19 Uhr findet in der Kirche 
 St. Stephan in Vlotho\ndas traditionelle Sommerkonzert des Gospelchores „G
 ood News“ statt.\n\nmehr Informationen unter http://pages.destination.one/
 de/teutonavigator/streaming/detail/Event/e_101260846/sommerkonzert-des-gos
 pelchores-good-news-vlotho
DTEND;TZID=Europe/Berlin:20260704T235900
DTSTAMP:20260425T152143Z
DTSTART;TZID=Europe/Berlin:20260704T190000
GEO:52.166856;8.861503
LOCATION:Kirche St. Stephan\, Lange Str. 108\, Vlotho
ORGANIZER;CN=Kirche St. Stephan:mailto:info@st-stephan-vlotho.de
PRIORITY:4
SEQUENCE:0
SUMMARY:Sommerkonzert des Gospelchores "Good News" - Vlotho
UID:e_101260846_iv0
URL:http://pages.destination.one/de/teutonavigator/streaming/detail/Event/e
 _101260846/sommerkonzert-des-gospelchores-good-news-vlotho
END:VEVENT
BEGIN:VTIMEZONE
TZID:Europe/Berlin
X-LIC-LOCATION:Europe/Berlin
BEGIN:DAYLIGHT
DTSTART:19700329T020000
RRULE:FREQ=YEARLY;BYDAY=-1SU;BYMONTH=3
TZNAME:CEST
TZOFFSETFROM:+0100
TZOFFSETTO:+0200
END:DAYLIGHT
BEGIN:STANDARD
DTSTART:19701025T030000
RRULE:FREQ=YEARLY;BYDAY=-1SU;BYMONTH=10
TZNAME:CET
TZOFFSETFROM:+0200
TZOFFSETTO:+0100
END:STANDARD
END:VTIMEZONE
END:VCALENDAR
