BEGIN:VCALENDAR
VERSION:2.0
PRODID:-//destination.one//NONSGML destination.meta API//DE
X-WR-CALDESC:A calendar powered by destination.meta
X-WR-CALNAME:teutonavigator Kalender via destination.meta
BEGIN:VEVENT
CATEGORIES:Ausstellung
DESCRIPTION:\n\nmehr Informationen unter http://pages.destination.one/de/te
 utonavigator/streaming/detail/Event/e_101260692/ausstellungser-ffnung-fant
 astisch-bauen
DTEND;TZID=Europe/Berlin:20260503T120000
DTSTAMP:20260424T142745Z
DTSTART;TZID=Europe/Berlin:20260503T110000
GEO:52.025768;8.779029
LOCATION:LWL-Museum Ziegelei Lage\, Sprikernheide 77\, Lage
ORGANIZER;CN=LWL-Museum Ziegelei Lage:mailto:ziegelei-lage@lwl.org
SEQUENCE:0
SUMMARY:Ausstellungseröffnung "Fantastisch bauen"
UID:e_101260692_iv0
URL:http://pages.destination.one/de/teutonavigator/streaming/detail/Event/e
 _101260692/ausstellungser-ffnung-fantastisch-bauen
END:VEVENT
BEGIN:VTIMEZONE
TZID:Europe/Berlin
X-LIC-LOCATION:Europe/Berlin
BEGIN:DAYLIGHT
DTSTART:19700329T020000
RRULE:FREQ=YEARLY;BYDAY=-1SU;BYMONTH=3
TZNAME:CEST
TZOFFSETFROM:+0100
TZOFFSETTO:+0200
END:DAYLIGHT
BEGIN:STANDARD
DTSTART:19701025T030000
RRULE:FREQ=YEARLY;BYDAY=-1SU;BYMONTH=10
TZNAME:CET
TZOFFSETFROM:+0200
TZOFFSETTO:+0100
END:STANDARD
END:VTIMEZONE
END:VCALENDAR
