BEGIN:VCALENDAR
VERSION:2.0
PRODID:-//destination.one//NONSGML destination.meta API//DE
X-WR-CALDESC:A calendar powered by destination.meta
X-WR-CALNAME:teutonavigator Kalender via destination.meta
BEGIN:VEVENT
CATEGORIES:Konzert divers
DESCRIPTION:Joe Baker\, Sänger und Keyboarder spielt mit den verschiedenen 
 Stilrichtungen wie: Blues\, Soul\, Jazz\, Swing\, Gospel und Country.\n\nm
 ehr Informationen unter http://pages.destination.one/de/teutonavigator/str
 eaming/detail/Event/e_101260666/musik-mit-joe-baker-pianosongs
DTEND;TZID=Europe/Berlin:20260528T213000
DTSTAMP:20260424T152217Z
DTSTART;TZID=Europe/Berlin:20260528T193000
GEO:51.894886;8.981442
LOCATION:Haus am Kurpark\, Parkstraße 63\, Horn-Bad Meinberg
ORGANIZER;CN=KulturBad Meinberg e.V.:mailto:kontakt@kulturbad-meinberg.de
SEQUENCE:0
SUMMARY:Musik mit Joe Baker - Pianosongs
UID:e_101260666_iv0
URL:http://pages.destination.one/de/teutonavigator/streaming/detail/Event/e
 _101260666/musik-mit-joe-baker-pianosongs
END:VEVENT
BEGIN:VTIMEZONE
TZID:Europe/Berlin
X-LIC-LOCATION:Europe/Berlin
BEGIN:DAYLIGHT
DTSTART:19700329T020000
RRULE:FREQ=YEARLY;BYDAY=-1SU;BYMONTH=3
TZNAME:CEST
TZOFFSETFROM:+0100
TZOFFSETTO:+0200
END:DAYLIGHT
BEGIN:STANDARD
DTSTART:19701025T030000
RRULE:FREQ=YEARLY;BYDAY=-1SU;BYMONTH=10
TZNAME:CET
TZOFFSETFROM:+0200
TZOFFSETTO:+0100
END:STANDARD
END:VTIMEZONE
END:VCALENDAR
