BEGIN:VCALENDAR
VERSION:2.0
PRODID:-//destination.one//NONSGML destination.meta API//DE
X-WR-CALDESC:A calendar powered by destination.meta
X-WR-CALNAME:teutonavigator Kalender via destination.meta
BEGIN:VEVENT
CATEGORIES:Konzert divers
CATEGORIES:Vortrag/Lesung
DESCRIPTION:Krimilesung mit jazziger musikalischer Untermalung.\n\nmehr Inf
 ormationen unter http://pages.destination.one/de/teutonavigator/streaming/
 detail/Event/e_101260665/musikalische-autorenlesung-mit-heike-rommel-und-j
 azzmusiker-thomas-schweitzer
DTEND;TZID=Europe/Berlin:20260521T213000
DTSTAMP:20260424T125258Z
DTSTART;TZID=Europe/Berlin:20260521T193000
GEO:51.894886;8.981442
LOCATION:Haus am Kurpark\, Parkstraße 63\, Horn-Bad Meinberg
ORGANIZER;CN=KulturBad Meinberg e.V.:mailto:kontakt@kulturbad-meinberg.de
SEQUENCE:0
SUMMARY:Musikalische Autorenlesung mit Heike Rommel und Jazzmusiker Thomas 
 Schweitzer
UID:e_101260665_iv0
URL:http://pages.destination.one/de/teutonavigator/streaming/detail/Event/e
 _101260665/musikalische-autorenlesung-mit-heike-rommel-und-jazzmusiker-tho
 mas-schweitzer
END:VEVENT
BEGIN:VTIMEZONE
TZID:Europe/Berlin
X-LIC-LOCATION:Europe/Berlin
BEGIN:DAYLIGHT
DTSTART:19700329T020000
RRULE:FREQ=YEARLY;BYDAY=-1SU;BYMONTH=3
TZNAME:CEST
TZOFFSETFROM:+0100
TZOFFSETTO:+0200
END:DAYLIGHT
BEGIN:STANDARD
DTSTART:19701025T030000
RRULE:FREQ=YEARLY;BYDAY=-1SU;BYMONTH=10
TZNAME:CET
TZOFFSETFROM:+0200
TZOFFSETTO:+0100
END:STANDARD
END:VTIMEZONE
END:VCALENDAR
