BEGIN:VCALENDAR
VERSION:2.0
PRODID:-//destination.one//NONSGML destination.meta API//DE
X-WR-CALDESC:A calendar powered by destination.meta
X-WR-CALNAME:teutonavigator Kalender via destination.meta
BEGIN:VEVENT
CATEGORIES:Vortrag/Lesung
DESCRIPTION:Friedo Petig\, lippischer Autor\, Poetry-Slammer und Moderator\
 , begeistert mit humorvollen\, oft gereimten Texten über Heimat\, Alltag u
 nd regionale Eigenheiten.\n\nmehr Informationen unter http://pages.destina
 tion.one/de/teutonavigator/streaming/detail/Event/e_101260664/autorenlesun
 gmit-friedo-petig
DTEND;TZID=Europe/Berlin:20260514T213000
DTSTAMP:20260424T124804Z
DTSTART;TZID=Europe/Berlin:20260514T193000
GEO:51.894886;8.981442
LOCATION:Haus am Kurpark\, Parkstraße 63\, Horn-Bad Meinberg
ORGANIZER;CN=KulturBad Meinberg e.V.:mailto:kontakt@kulturbad-meinberg.de
SEQUENCE:0
SUMMARY:Autorenlesungmit Friedo Petig
UID:e_101260664_iv0
URL:http://pages.destination.one/de/teutonavigator/streaming/detail/Event/e
 _101260664/autorenlesungmit-friedo-petig
END:VEVENT
BEGIN:VTIMEZONE
TZID:Europe/Berlin
X-LIC-LOCATION:Europe/Berlin
BEGIN:DAYLIGHT
DTSTART:19700329T020000
RRULE:FREQ=YEARLY;BYDAY=-1SU;BYMONTH=3
TZNAME:CEST
TZOFFSETFROM:+0100
TZOFFSETTO:+0200
END:DAYLIGHT
BEGIN:STANDARD
DTSTART:19701025T030000
RRULE:FREQ=YEARLY;BYDAY=-1SU;BYMONTH=10
TZNAME:CET
TZOFFSETFROM:+0200
TZOFFSETTO:+0100
END:STANDARD
END:VTIMEZONE
END:VCALENDAR
