BEGIN:VCALENDAR
VERSION:2.0
PRODID:-//destination.one//NONSGML destination.meta API//DE
X-WR-CALDESC:A calendar powered by destination.meta
X-WR-CALNAME:teutonavigator Kalender via destination.meta
BEGIN:VEVENT
CATEGORIES:Brauchtum/Kultur
CATEGORIES:Flohmarkt
CATEGORIES:Geselligkeit/Spiele/Treffen
DESCRIPTION:\n\nmehr Informationen unter http://pages.destination.one/de/te
 utonavigator/streaming/detail/Event/e_101260595/performance-paderborn
DTEND;TZID=Europe/Berlin:20260907T220000
DTSTAMP:20260424T124807Z
DTSTART;TZID=Europe/Berlin:20260907T140000
GEO:51.746150;8.711536
LOCATION:Schloss- und Auenpark Paderborn \, Im Schloßpark 10\, Paderborn
ORGANIZER;CN=Kulturamt Stadt Paderborn:mailto:info@paderborn.de
SEQUENCE:0
SUMMARY:PERFORMANCE PADERBORN
UID:e_101260595_iv0
URL:http://pages.destination.one/de/teutonavigator/streaming/detail/Event/e
 _101260595/performance-paderborn
END:VEVENT
BEGIN:VEVENT
CATEGORIES:Brauchtum/Kultur
CATEGORIES:Flohmarkt
CATEGORIES:Geselligkeit/Spiele/Treffen
DESCRIPTION:\n\nmehr Informationen unter http://pages.destination.one/de/te
 utonavigator/streaming/detail/Event/e_101260595/performance-paderborn
DTEND;TZID=Europe/Berlin:20260908T235900
DTSTAMP:20260424T124807Z
DTSTART;TZID=Europe/Berlin:20260908T100000
GEO:51.746150;8.711536
LOCATION:Schloss- und Auenpark Paderborn \, Im Schloßpark 10\, Paderborn
ORGANIZER;CN=Kulturamt Stadt Paderborn:mailto:info@paderborn.de
SEQUENCE:0
SUMMARY:PERFORMANCE PADERBORN
UID:e_101260595_iv1
URL:http://pages.destination.one/de/teutonavigator/streaming/detail/Event/e
 _101260595/performance-paderborn
END:VEVENT
BEGIN:VTIMEZONE
TZID:Europe/Berlin
X-LIC-LOCATION:Europe/Berlin
BEGIN:DAYLIGHT
DTSTART:19700329T020000
RRULE:FREQ=YEARLY;BYDAY=-1SU;BYMONTH=3
TZNAME:CEST
TZOFFSETFROM:+0100
TZOFFSETTO:+0200
END:DAYLIGHT
BEGIN:STANDARD
DTSTART:19701025T030000
RRULE:FREQ=YEARLY;BYDAY=-1SU;BYMONTH=10
TZNAME:CET
TZOFFSETFROM:+0200
TZOFFSETTO:+0100
END:STANDARD
END:VTIMEZONE
END:VCALENDAR
