BEGIN:VCALENDAR
VERSION:2.0
PRODID:-//destination.one//NONSGML destination.meta API//DE
X-WR-CALDESC:A calendar powered by destination.meta
X-WR-CALNAME:teutonavigator Kalender via destination.meta
BEGIN:VEVENT
CATEGORIES:Ausflug/Exkursion
CATEGORIES:Führung/Besichtigung
DESCRIPTION:\n\nmehr Informationen unter http://pages.destination.one/de/te
 utonavigator/streaming/detail/Event/e_101260541/stadtf-hrung-nationalsozia
 lismus-in-halle
DTEND;TZID=Europe/Berlin:20260425T163000
DTSTAMP:20260424T142745Z
DTSTART;TZID=Europe/Berlin:20260425T150000
GEO:52.058969;8.359630
LOCATION:Halle (Westf.)\, Ravensberger Str. 1\, Halle (Westf.)
ORGANIZER;CN=Stadt Halle (Westf.):mailto:kulturbuero@hallewestfalen.de
SEQUENCE:0
SUMMARY:Stadtführung: Nationalsozialismus in Halle
UID:e_101260541_iv0
URL:http://pages.destination.one/de/teutonavigator/streaming/detail/Event/e
 _101260541/stadtf-hrung-nationalsozialismus-in-halle
END:VEVENT
BEGIN:VTIMEZONE
TZID:Europe/Berlin
X-LIC-LOCATION:Europe/Berlin
BEGIN:DAYLIGHT
DTSTART:19700329T020000
RRULE:FREQ=YEARLY;BYDAY=-1SU;BYMONTH=3
TZNAME:CEST
TZOFFSETFROM:+0100
TZOFFSETTO:+0200
END:DAYLIGHT
BEGIN:STANDARD
DTSTART:19701025T030000
RRULE:FREQ=YEARLY;BYDAY=-1SU;BYMONTH=10
TZNAME:CET
TZOFFSETFROM:+0200
TZOFFSETTO:+0100
END:STANDARD
END:VTIMEZONE
END:VCALENDAR
