BEGIN:VCALENDAR
VERSION:2.0
PRODID:-//destination.one//NONSGML destination.meta API//DE
X-WR-CALDESC:A calendar powered by destination.meta
X-WR-CALNAME:teutonavigator Kalender via destination.meta
BEGIN:VEVENT
CATEGORIES:Brauchtum/Kultur
CATEGORIES:Schauspiel
DESCRIPTION:„Der Meister singt\, das Volk lacht“  \nDie Theatergruppe SCHAT
 ULLE e.V. spielt amüsante Hans-Sachs-Szenen\n\nmehr Informationen unter ht
 tp://pages.destination.one/de/teutonavigator/streaming/detail/Event/e_1012
 59914/landart-kulturwochen-im-m-hlenkreis-der-meister-singt-das-volk-lacht
 -schatulle-spielt-hans-sachs
DTEND;TZID=Europe/Berlin:20260626T180000
DTSTAMP:20260423T102357Z
DTSTART;TZID=Europe/Berlin:20260626T163000
GEO:52.460997;8.651572
LOCATION:Kulturscheune Wehe\, Zur Bockwindmühle 35\, Rahden
SEQUENCE:0
SUMMARY:LandArt-Kulturwochen im Mühlenkreis | "Der Meister singt\, das Volk
  lacht" - SCHATULLE spielt Hans-Sachs
UID:e_101259914_iv0
URL:http://pages.destination.one/de/teutonavigator/streaming/detail/Event/e
 _101259914/landart-kulturwochen-im-m-hlenkreis-der-meister-singt-das-volk-
 lacht-schatulle-spielt-hans-sachs
END:VEVENT
BEGIN:VTIMEZONE
TZID:Europe/Berlin
X-LIC-LOCATION:Europe/Berlin
BEGIN:DAYLIGHT
DTSTART:19700329T020000
RRULE:FREQ=YEARLY;BYDAY=-1SU;BYMONTH=3
TZNAME:CEST
TZOFFSETFROM:+0100
TZOFFSETTO:+0200
END:DAYLIGHT
BEGIN:STANDARD
DTSTART:19701025T030000
RRULE:FREQ=YEARLY;BYDAY=-1SU;BYMONTH=10
TZNAME:CET
TZOFFSETFROM:+0200
TZOFFSETTO:+0100
END:STANDARD
END:VTIMEZONE
END:VCALENDAR
