BEGIN:VCALENDAR
VERSION:2.0
PRODID:-//destination.one//NONSGML destination.meta API//DE
X-WR-CALDESC:A calendar powered by destination.meta
X-WR-CALNAME:teutonavigator Kalender via destination.meta
BEGIN:VEVENT
CATEGORIES:Genuss/Gourmet
CATEGORIES:Markt
CATEGORIES:Messe
DESCRIPTION:Raus aufs Land\, rein ins Vergnügen.\nAussteller präsentieren i
 hre Produkte auf dem Biohof Beckerwerth.\n\nmehr Informationen unter http:
 //pages.destination.one/de/teutonavigator/streaming/detail/Event/e_1012597
 82/hoffest-auf-biohof-beckerwerth
DTEND;TZID=Europe/Berlin:20260614T180000
DTSTAMP:20260424T124807Z
DTSTART;TZID=Europe/Berlin:20260614T110000
GEO:52.065551;8.244135
LOCATION:Biohof Beckerwerth\, Halstenbeck 21\, Versmold
SEQUENCE:0
SUMMARY:Hoffest auf Biohof Beckerwerth
UID:e_101259782_iv0
URL:http://pages.destination.one/de/teutonavigator/streaming/detail/Event/e
 _101259782/hoffest-auf-biohof-beckerwerth
END:VEVENT
BEGIN:VTIMEZONE
TZID:Europe/Berlin
X-LIC-LOCATION:Europe/Berlin
BEGIN:DAYLIGHT
DTSTART:19700329T020000
RRULE:FREQ=YEARLY;BYDAY=-1SU;BYMONTH=3
TZNAME:CEST
TZOFFSETFROM:+0100
TZOFFSETTO:+0200
END:DAYLIGHT
BEGIN:STANDARD
DTSTART:19701025T030000
RRULE:FREQ=YEARLY;BYDAY=-1SU;BYMONTH=10
TZNAME:CET
TZOFFSETFROM:+0200
TZOFFSETTO:+0100
END:STANDARD
END:VTIMEZONE
END:VCALENDAR
