BEGIN:VCALENDAR
VERSION:2.0
PRODID:-//destination.one//NONSGML destination.meta API//DE
X-WR-CALDESC:A calendar powered by destination.meta
X-WR-CALNAME:teutonavigator Kalender via destination.meta
BEGIN:VEVENT
CATEGORIES:Bühne divers
DESCRIPTION:\n\nmehr Informationen unter http://pages.destination.one/de/te
 utonavigator/streaming/detail/Event/e_101259442/ulan-bator-undsinn
DTEND;TZID=Europe/Berlin:20260424T235900
DTSTAMP:20260423T104350Z
DTSTART;TZID=Europe/Berlin:20260424T200000
GEO:51.716182;8.752794
LOCATION:Amalthea Theater Paderborn\, Jühengasse 10\, Paderborn
ORGANIZER;CN=Amalthea Theater Paderborn:mailto:info@amalthea-theater.de
SEQUENCE:0
SUMMARY:Ulan & Bator: „Undsinn“
UID:e_101259442_iv0
URL:http://pages.destination.one/de/teutonavigator/streaming/detail/Event/e
 _101259442/ulan-bator-undsinn
END:VEVENT
BEGIN:VTIMEZONE
TZID:Europe/Berlin
X-LIC-LOCATION:Europe/Berlin
BEGIN:DAYLIGHT
DTSTART:19700329T020000
RRULE:FREQ=YEARLY;BYDAY=-1SU;BYMONTH=3
TZNAME:CEST
TZOFFSETFROM:+0100
TZOFFSETTO:+0200
END:DAYLIGHT
BEGIN:STANDARD
DTSTART:19701025T030000
RRULE:FREQ=YEARLY;BYDAY=-1SU;BYMONTH=10
TZNAME:CET
TZOFFSETFROM:+0200
TZOFFSETTO:+0100
END:STANDARD
END:VTIMEZONE
END:VCALENDAR
