BEGIN:VCALENDAR
VERSION:2.0
PRODID:-//destination.one//NONSGML destination.meta API//DE
X-WR-CALDESC:A calendar powered by destination.meta
X-WR-CALNAME:teutonavigator Kalender via destination.meta
BEGIN:VEVENT
CATEGORIES:Bühne divers
DESCRIPTION:\n\nmehr Informationen unter http://pages.destination.one/de/te
 utonavigator/streaming/detail/Event/e_101259406/krabat-von-otfried-preu-le
 r
DTEND;TZID=Europe/Berlin:20260516T235900
DTSTAMP:20260423T110750Z
DTSTART;TZID=Europe/Berlin:20260516T193000
GEO:51.717150;8.755360
LOCATION:Theater Paderborn - Westfälische Kammerspiele\, Neuer Platz 6\, Pa
 derborn
ORGANIZER;CN=Theater Paderborn - Westfälische Kammerspiele:mailto:kartenser
 vice@theater-paderborn.de
SEQUENCE:0
SUMMARY:Krabat - von Otfried Preußler
UID:e_101259406_iv0
URL:http://pages.destination.one/de/teutonavigator/streaming/detail/Event/e
 _101259406/krabat-von-otfried-preu-ler
END:VEVENT
BEGIN:VEVENT
CATEGORIES:Bühne divers
DESCRIPTION:\n\nmehr Informationen unter http://pages.destination.one/de/te
 utonavigator/streaming/detail/Event/e_101259406/krabat-von-otfried-preu-le
 r
DTEND;TZID=Europe/Berlin:20260521T235900
DTSTAMP:20260423T110750Z
DTSTART;TZID=Europe/Berlin:20260521T193000
GEO:51.717150;8.755360
LOCATION:Theater Paderborn - Westfälische Kammerspiele\, Neuer Platz 6\, Pa
 derborn
ORGANIZER;CN=Theater Paderborn - Westfälische Kammerspiele:mailto:kartenser
 vice@theater-paderborn.de
SEQUENCE:0
SUMMARY:Krabat - von Otfried Preußler
UID:e_101259406_iv1
URL:http://pages.destination.one/de/teutonavigator/streaming/detail/Event/e
 _101259406/krabat-von-otfried-preu-ler
END:VEVENT
BEGIN:VEVENT
CATEGORIES:Bühne divers
DESCRIPTION:\n\nmehr Informationen unter http://pages.destination.one/de/te
 utonavigator/streaming/detail/Event/e_101259406/krabat-von-otfried-preu-le
 r
DTEND;TZID=Europe/Berlin:20260522T235900
DTSTAMP:20260423T110750Z
DTSTART;TZID=Europe/Berlin:20260522T193000
GEO:51.717150;8.755360
LOCATION:Theater Paderborn - Westfälische Kammerspiele\, Neuer Platz 6\, Pa
 derborn
ORGANIZER;CN=Theater Paderborn - Westfälische Kammerspiele:mailto:kartenser
 vice@theater-paderborn.de
SEQUENCE:0
SUMMARY:Krabat - von Otfried Preußler
UID:e_101259406_iv2
URL:http://pages.destination.one/de/teutonavigator/streaming/detail/Event/e
 _101259406/krabat-von-otfried-preu-ler
END:VEVENT
BEGIN:VEVENT
CATEGORIES:Bühne divers
DESCRIPTION:\n\nmehr Informationen unter http://pages.destination.one/de/te
 utonavigator/streaming/detail/Event/e_101259406/krabat-von-otfried-preu-le
 r
DTEND;TZID=Europe/Berlin:20260530T235900
DTSTAMP:20260423T110750Z
DTSTART;TZID=Europe/Berlin:20260530T193000
GEO:51.717150;8.755360
LOCATION:Theater Paderborn - Westfälische Kammerspiele\, Neuer Platz 6\, Pa
 derborn
ORGANIZER;CN=Theater Paderborn - Westfälische Kammerspiele:mailto:kartenser
 vice@theater-paderborn.de
SEQUENCE:0
SUMMARY:Krabat - von Otfried Preußler
UID:e_101259406_iv3
URL:http://pages.destination.one/de/teutonavigator/streaming/detail/Event/e
 _101259406/krabat-von-otfried-preu-ler
END:VEVENT
BEGIN:VEVENT
CATEGORIES:Bühne divers
DESCRIPTION:\n\nmehr Informationen unter http://pages.destination.one/de/te
 utonavigator/streaming/detail/Event/e_101259406/krabat-von-otfried-preu-le
 r
DTEND;TZID=Europe/Berlin:20260531T235900
DTSTAMP:20260423T110750Z
DTSTART;TZID=Europe/Berlin:20260531T180000
GEO:51.717150;8.755360
LOCATION:Theater Paderborn - Westfälische Kammerspiele\, Neuer Platz 6\, Pa
 derborn
ORGANIZER;CN=Theater Paderborn - Westfälische Kammerspiele:mailto:kartenser
 vice@theater-paderborn.de
SEQUENCE:0
SUMMARY:Krabat - von Otfried Preußler
UID:e_101259406_iv4
URL:http://pages.destination.one/de/teutonavigator/streaming/detail/Event/e
 _101259406/krabat-von-otfried-preu-ler
END:VEVENT
BEGIN:VEVENT
CATEGORIES:Bühne divers
DESCRIPTION:\n\nmehr Informationen unter http://pages.destination.one/de/te
 utonavigator/streaming/detail/Event/e_101259406/krabat-von-otfried-preu-le
 r
DTEND;TZID=Europe/Berlin:20260606T235900
DTSTAMP:20260423T110750Z
DTSTART;TZID=Europe/Berlin:20260606T193000
GEO:51.717150;8.755360
LOCATION:Theater Paderborn - Westfälische Kammerspiele\, Neuer Platz 6\, Pa
 derborn
ORGANIZER;CN=Theater Paderborn - Westfälische Kammerspiele:mailto:kartenser
 vice@theater-paderborn.de
SEQUENCE:0
SUMMARY:Krabat - von Otfried Preußler
UID:e_101259406_iv5
URL:http://pages.destination.one/de/teutonavigator/streaming/detail/Event/e
 _101259406/krabat-von-otfried-preu-ler
END:VEVENT
BEGIN:VEVENT
CATEGORIES:Bühne divers
DESCRIPTION:\n\nmehr Informationen unter http://pages.destination.one/de/te
 utonavigator/streaming/detail/Event/e_101259406/krabat-von-otfried-preu-le
 r
DTEND;TZID=Europe/Berlin:20260607T235900
DTSTAMP:20260423T110750Z
DTSTART;TZID=Europe/Berlin:20260607T180000
GEO:51.717150;8.755360
LOCATION:Theater Paderborn - Westfälische Kammerspiele\, Neuer Platz 6\, Pa
 derborn
ORGANIZER;CN=Theater Paderborn - Westfälische Kammerspiele:mailto:kartenser
 vice@theater-paderborn.de
SEQUENCE:0
SUMMARY:Krabat - von Otfried Preußler
UID:e_101259406_iv6
URL:http://pages.destination.one/de/teutonavigator/streaming/detail/Event/e
 _101259406/krabat-von-otfried-preu-ler
END:VEVENT
BEGIN:VEVENT
CATEGORIES:Bühne divers
DESCRIPTION:\n\nmehr Informationen unter http://pages.destination.one/de/te
 utonavigator/streaming/detail/Event/e_101259406/krabat-von-otfried-preu-le
 r
DTEND;TZID=Europe/Berlin:20260612T235900
DTSTAMP:20260423T110750Z
DTSTART;TZID=Europe/Berlin:20260612T193000
GEO:51.717150;8.755360
LOCATION:Theater Paderborn - Westfälische Kammerspiele\, Neuer Platz 6\, Pa
 derborn
ORGANIZER;CN=Theater Paderborn - Westfälische Kammerspiele:mailto:kartenser
 vice@theater-paderborn.de
SEQUENCE:0
SUMMARY:Krabat - von Otfried Preußler
UID:e_101259406_iv7
URL:http://pages.destination.one/de/teutonavigator/streaming/detail/Event/e
 _101259406/krabat-von-otfried-preu-ler
END:VEVENT
BEGIN:VEVENT
CATEGORIES:Bühne divers
DESCRIPTION:\n\nmehr Informationen unter http://pages.destination.one/de/te
 utonavigator/streaming/detail/Event/e_101259406/krabat-von-otfried-preu-le
 r
DTEND;TZID=Europe/Berlin:20260614T235900
DTSTAMP:20260423T110750Z
DTSTART;TZID=Europe/Berlin:20260614T180000
GEO:51.717150;8.755360
LOCATION:Theater Paderborn - Westfälische Kammerspiele\, Neuer Platz 6\, Pa
 derborn
ORGANIZER;CN=Theater Paderborn - Westfälische Kammerspiele:mailto:kartenser
 vice@theater-paderborn.de
SEQUENCE:0
SUMMARY:Krabat - von Otfried Preußler
UID:e_101259406_iv8
URL:http://pages.destination.one/de/teutonavigator/streaming/detail/Event/e
 _101259406/krabat-von-otfried-preu-ler
END:VEVENT
BEGIN:VEVENT
CATEGORIES:Bühne divers
DESCRIPTION:\n\nmehr Informationen unter http://pages.destination.one/de/te
 utonavigator/streaming/detail/Event/e_101259406/krabat-von-otfried-preu-le
 r
DTEND;TZID=Europe/Berlin:20260618T235900
DTSTAMP:20260423T110750Z
DTSTART;TZID=Europe/Berlin:20260618T193000
GEO:51.717150;8.755360
LOCATION:Theater Paderborn - Westfälische Kammerspiele\, Neuer Platz 6\, Pa
 derborn
ORGANIZER;CN=Theater Paderborn - Westfälische Kammerspiele:mailto:kartenser
 vice@theater-paderborn.de
SEQUENCE:0
SUMMARY:Krabat - von Otfried Preußler
UID:e_101259406_iv9
URL:http://pages.destination.one/de/teutonavigator/streaming/detail/Event/e
 _101259406/krabat-von-otfried-preu-ler
END:VEVENT
BEGIN:VEVENT
CATEGORIES:Bühne divers
DESCRIPTION:\n\nmehr Informationen unter http://pages.destination.one/de/te
 utonavigator/streaming/detail/Event/e_101259406/krabat-von-otfried-preu-le
 r
DTEND;TZID=Europe/Berlin:20260625T235900
DTSTAMP:20260423T110750Z
DTSTART;TZID=Europe/Berlin:20260625T193000
GEO:51.717150;8.755360
LOCATION:Theater Paderborn - Westfälische Kammerspiele\, Neuer Platz 6\, Pa
 derborn
ORGANIZER;CN=Theater Paderborn - Westfälische Kammerspiele:mailto:kartenser
 vice@theater-paderborn.de
SEQUENCE:0
SUMMARY:Krabat - von Otfried Preußler
UID:e_101259406_iv10
URL:http://pages.destination.one/de/teutonavigator/streaming/detail/Event/e
 _101259406/krabat-von-otfried-preu-ler
END:VEVENT
BEGIN:VEVENT
CATEGORIES:Bühne divers
DESCRIPTION:\n\nmehr Informationen unter http://pages.destination.one/de/te
 utonavigator/streaming/detail/Event/e_101259406/krabat-von-otfried-preu-le
 r
DTEND;TZID=Europe/Berlin:20260626T235900
DTSTAMP:20260423T110750Z
DTSTART;TZID=Europe/Berlin:20260626T193000
GEO:51.717150;8.755360
LOCATION:Theater Paderborn - Westfälische Kammerspiele\, Neuer Platz 6\, Pa
 derborn
ORGANIZER;CN=Theater Paderborn - Westfälische Kammerspiele:mailto:kartenser
 vice@theater-paderborn.de
SEQUENCE:0
SUMMARY:Krabat - von Otfried Preußler
UID:e_101259406_iv11
URL:http://pages.destination.one/de/teutonavigator/streaming/detail/Event/e
 _101259406/krabat-von-otfried-preu-ler
END:VEVENT
BEGIN:VEVENT
CATEGORIES:Bühne divers
DESCRIPTION:\n\nmehr Informationen unter http://pages.destination.one/de/te
 utonavigator/streaming/detail/Event/e_101259406/krabat-von-otfried-preu-le
 r
DTEND;TZID=Europe/Berlin:20260627T235900
DTSTAMP:20260423T110750Z
DTSTART;TZID=Europe/Berlin:20260627T193000
GEO:51.717150;8.755360
LOCATION:Theater Paderborn - Westfälische Kammerspiele\, Neuer Platz 6\, Pa
 derborn
ORGANIZER;CN=Theater Paderborn - Westfälische Kammerspiele:mailto:kartenser
 vice@theater-paderborn.de
SEQUENCE:0
SUMMARY:Krabat - von Otfried Preußler
UID:e_101259406_iv12
URL:http://pages.destination.one/de/teutonavigator/streaming/detail/Event/e
 _101259406/krabat-von-otfried-preu-ler
END:VEVENT
BEGIN:VEVENT
CATEGORIES:Bühne divers
DESCRIPTION:\n\nmehr Informationen unter http://pages.destination.one/de/te
 utonavigator/streaming/detail/Event/e_101259406/krabat-von-otfried-preu-le
 r
DTEND;TZID=Europe/Berlin:20260705T235900
DTSTAMP:20260423T110750Z
DTSTART;TZID=Europe/Berlin:20260705T180000
GEO:51.717150;8.755360
LOCATION:Theater Paderborn - Westfälische Kammerspiele\, Neuer Platz 6\, Pa
 derborn
ORGANIZER;CN=Theater Paderborn - Westfälische Kammerspiele:mailto:kartenser
 vice@theater-paderborn.de
SEQUENCE:0
SUMMARY:Krabat - von Otfried Preußler
UID:e_101259406_iv13
URL:http://pages.destination.one/de/teutonavigator/streaming/detail/Event/e
 _101259406/krabat-von-otfried-preu-ler
END:VEVENT
BEGIN:VEVENT
CATEGORIES:Bühne divers
DESCRIPTION:\n\nmehr Informationen unter http://pages.destination.one/de/te
 utonavigator/streaming/detail/Event/e_101259406/krabat-von-otfried-preu-le
 r
DTEND;TZID=Europe/Berlin:20260710T235900
DTSTAMP:20260423T110750Z
DTSTART;TZID=Europe/Berlin:20260710T193000
GEO:51.717150;8.755360
LOCATION:Theater Paderborn - Westfälische Kammerspiele\, Neuer Platz 6\, Pa
 derborn
ORGANIZER;CN=Theater Paderborn - Westfälische Kammerspiele:mailto:kartenser
 vice@theater-paderborn.de
SEQUENCE:0
SUMMARY:Krabat - von Otfried Preußler
UID:e_101259406_iv14
URL:http://pages.destination.one/de/teutonavigator/streaming/detail/Event/e
 _101259406/krabat-von-otfried-preu-ler
END:VEVENT
BEGIN:VTIMEZONE
TZID:Europe/Berlin
X-LIC-LOCATION:Europe/Berlin
BEGIN:DAYLIGHT
DTSTART:19700329T020000
RRULE:FREQ=YEARLY;BYDAY=-1SU;BYMONTH=3
TZNAME:CEST
TZOFFSETFROM:+0100
TZOFFSETTO:+0200
END:DAYLIGHT
BEGIN:STANDARD
DTSTART:19701025T030000
RRULE:FREQ=YEARLY;BYDAY=-1SU;BYMONTH=10
TZNAME:CET
TZOFFSETFROM:+0200
TZOFFSETTO:+0100
END:STANDARD
END:VTIMEZONE
END:VCALENDAR
