BEGIN:VCALENDAR
VERSION:2.0
PRODID:-//destination.one//NONSGML destination.meta API//DE
X-WR-CALDESC:A calendar powered by destination.meta
X-WR-CALNAME:teutonavigator Kalender via destination.meta
BEGIN:VEVENT
CATEGORIES:Bühne divers
CATEGORIES:Konzert divers
DESCRIPTION:\n\nmehr Informationen unter http://pages.destination.one/de/te
 utonavigator/streaming/detail/Event/e_101259405/a-tribute-to-the-blues-bro
 thers
DTEND;TZID=Europe/Berlin:20260510T235900
DTSTAMP:20260423T095156Z
DTSTART;TZID=Europe/Berlin:20260510T180000
GEO:51.717150;8.755360
LOCATION:Theater Paderborn - Westfälische Kammerspiele\, Neuer Platz 6\, Pa
 derborn
ORGANIZER;CN=Theater Paderborn - Westfälische Kammerspiele:mailto:kartenser
 vice@theater-paderborn.de
SEQUENCE:0
SUMMARY:A Tribute to The Blues Brothers
UID:e_101259405_iv0
URL:http://pages.destination.one/de/teutonavigator/streaming/detail/Event/e
 _101259405/a-tribute-to-the-blues-brothers
END:VEVENT
BEGIN:VTIMEZONE
TZID:Europe/Berlin
X-LIC-LOCATION:Europe/Berlin
BEGIN:DAYLIGHT
DTSTART:19700329T020000
RRULE:FREQ=YEARLY;BYDAY=-1SU;BYMONTH=3
TZNAME:CEST
TZOFFSETFROM:+0100
TZOFFSETTO:+0200
END:DAYLIGHT
BEGIN:STANDARD
DTSTART:19701025T030000
RRULE:FREQ=YEARLY;BYDAY=-1SU;BYMONTH=10
TZNAME:CET
TZOFFSETFROM:+0200
TZOFFSETTO:+0100
END:STANDARD
END:VTIMEZONE
END:VCALENDAR
