BEGIN:VCALENDAR
VERSION:2.0
PRODID:-//destination.one//NONSGML destination.meta API//DE
X-WR-CALDESC:A calendar powered by destination.meta
X-WR-CALNAME:teutonavigator Kalender via destination.meta
BEGIN:VEVENT
CATEGORIES:Bühne divers
DESCRIPTION:\n\nmehr Informationen unter http://pages.destination.one/de/te
 utonavigator/streaming/detail/Event/e_101259226/theaterauff-hrung-laienspi
 elschar-westenholz
DTEND;TZID=Europe/Berlin:20261108T235900
DTSTAMP:20260422T100945Z
DTSTART;TZID=Europe/Berlin:20261108T160000
GEO:51.756988;8.469375
LOCATION:Gasthof Lütkewitte\, Dorfplatz 1\, Delbrück
ORGANIZER;CN=Laienspielschar Westenholz e.V.:mailto:info@laienspielschar-we
 stenholz.de
SEQUENCE:0
SUMMARY:Theateraufführung Laienspielschar Westenholz
UID:e_101259226_iv0
URL:http://pages.destination.one/de/teutonavigator/streaming/detail/Event/e
 _101259226/theaterauff-hrung-laienspielschar-westenholz
END:VEVENT
BEGIN:VEVENT
CATEGORIES:Bühne divers
DESCRIPTION:\n\nmehr Informationen unter http://pages.destination.one/de/te
 utonavigator/streaming/detail/Event/e_101259226/theaterauff-hrung-laienspi
 elschar-westenholz
DTEND;TZID=Europe/Berlin:20261115T235900
DTSTAMP:20260422T100945Z
DTSTART;TZID=Europe/Berlin:20261115T160000
GEO:51.756988;8.469375
LOCATION:Gasthof Lütkewitte\, Dorfplatz 1\, Delbrück
ORGANIZER;CN=Laienspielschar Westenholz e.V.:mailto:info@laienspielschar-we
 stenholz.de
SEQUENCE:0
SUMMARY:Theateraufführung Laienspielschar Westenholz
UID:e_101259226_iv1
URL:http://pages.destination.one/de/teutonavigator/streaming/detail/Event/e
 _101259226/theaterauff-hrung-laienspielschar-westenholz
END:VEVENT
BEGIN:VEVENT
CATEGORIES:Bühne divers
DESCRIPTION:\n\nmehr Informationen unter http://pages.destination.one/de/te
 utonavigator/streaming/detail/Event/e_101259226/theaterauff-hrung-laienspi
 elschar-westenholz
DTEND;TZID=Europe/Berlin:20261122T235900
DTSTAMP:20260422T100945Z
DTSTART;TZID=Europe/Berlin:20261122T160000
GEO:51.756988;8.469375
LOCATION:Gasthof Lütkewitte\, Dorfplatz 1\, Delbrück
ORGANIZER;CN=Laienspielschar Westenholz e.V.:mailto:info@laienspielschar-we
 stenholz.de
SEQUENCE:0
SUMMARY:Theateraufführung Laienspielschar Westenholz
UID:e_101259226_iv2
URL:http://pages.destination.one/de/teutonavigator/streaming/detail/Event/e
 _101259226/theaterauff-hrung-laienspielschar-westenholz
END:VEVENT
BEGIN:VEVENT
CATEGORIES:Bühne divers
DESCRIPTION:\n\nmehr Informationen unter http://pages.destination.one/de/te
 utonavigator/streaming/detail/Event/e_101259226/theaterauff-hrung-laienspi
 elschar-westenholz
DTEND;TZID=Europe/Berlin:20261128T235900
DTSTAMP:20260422T100945Z
DTSTART;TZID=Europe/Berlin:20261128T190000
GEO:51.756988;8.469375
LOCATION:Gasthof Lütkewitte\, Dorfplatz 1\, Delbrück
ORGANIZER;CN=Laienspielschar Westenholz e.V.:mailto:info@laienspielschar-we
 stenholz.de
SEQUENCE:0
SUMMARY:Theateraufführung Laienspielschar Westenholz
UID:e_101259226_iv3
URL:http://pages.destination.one/de/teutonavigator/streaming/detail/Event/e
 _101259226/theaterauff-hrung-laienspielschar-westenholz
END:VEVENT
BEGIN:VEVENT
CATEGORIES:Bühne divers
DESCRIPTION:\n\nmehr Informationen unter http://pages.destination.one/de/te
 utonavigator/streaming/detail/Event/e_101259226/theaterauff-hrung-laienspi
 elschar-westenholz
DTEND;TZID=Europe/Berlin:20261129T235900
DTSTAMP:20260422T100945Z
DTSTART;TZID=Europe/Berlin:20261129T160000
GEO:51.756988;8.469375
LOCATION:Gasthof Lütkewitte\, Dorfplatz 1\, Delbrück
ORGANIZER;CN=Laienspielschar Westenholz e.V.:mailto:info@laienspielschar-we
 stenholz.de
SEQUENCE:0
SUMMARY:Theateraufführung Laienspielschar Westenholz
UID:e_101259226_iv4
URL:http://pages.destination.one/de/teutonavigator/streaming/detail/Event/e
 _101259226/theaterauff-hrung-laienspielschar-westenholz
END:VEVENT
BEGIN:VTIMEZONE
TZID:Europe/Berlin
X-LIC-LOCATION:Europe/Berlin
BEGIN:DAYLIGHT
DTSTART:19700329T020000
RRULE:FREQ=YEARLY;BYDAY=-1SU;BYMONTH=3
TZNAME:CEST
TZOFFSETFROM:+0100
TZOFFSETTO:+0200
END:DAYLIGHT
BEGIN:STANDARD
DTSTART:19701025T030000
RRULE:FREQ=YEARLY;BYDAY=-1SU;BYMONTH=10
TZNAME:CET
TZOFFSETFROM:+0200
TZOFFSETTO:+0100
END:STANDARD
END:VTIMEZONE
END:VCALENDAR
