BEGIN:VCALENDAR
VERSION:2.0
PRODID:-//destination.one//NONSGML destination.meta API//DE
X-WR-CALDESC:A calendar powered by destination.meta
X-WR-CALNAME:teutonavigator Kalender via destination.meta
BEGIN:VEVENT
CATEGORIES:Sport/Freizeit
CATEGORIES:Turnier/Wettbewerb
DESCRIPTION:\n\nmehr Informationen unter http://pages.destination.one/de/te
 utonavigator/streaming/detail/Event/e_101259128/lvm-ladies-cup
DTEND;TZID=Europe/Berlin;VALUE=DATE:20260705
DTSTAMP:20260422T142730Z
DTSTART;TZID=Europe/Berlin;VALUE=DATE:20260704
GEO:51.659146;8.718735
LOCATION:Sporthalle Gallihöhe\, Haarener Straße 9\, Borchen
ORGANIZER;CN=SC Borchen 1926/32 e.V.:mailto:1.Vorsitzender@sc-borchen.de
SEQUENCE:0
SUMMARY:LVM-Ladies-Cup
UID:e_101259128_iv0
URL:http://pages.destination.one/de/teutonavigator/streaming/detail/Event/e
 _101259128/lvm-ladies-cup
END:VEVENT
BEGIN:VTIMEZONE
TZID:Europe/Berlin
X-LIC-LOCATION:Europe/Berlin
BEGIN:DAYLIGHT
DTSTART:19700329T020000
RRULE:FREQ=YEARLY;BYDAY=-1SU;BYMONTH=3
TZNAME:CEST
TZOFFSETFROM:+0100
TZOFFSETTO:+0200
END:DAYLIGHT
BEGIN:STANDARD
DTSTART:19701025T030000
RRULE:FREQ=YEARLY;BYDAY=-1SU;BYMONTH=10
TZNAME:CET
TZOFFSETFROM:+0200
TZOFFSETTO:+0100
END:STANDARD
END:VTIMEZONE
END:VCALENDAR
