BEGIN:VCALENDAR
VERSION:2.0
PRODID:-//destination.one//NONSGML destination.meta API//DE
X-WR-CALDESC:A calendar powered by destination.meta
X-WR-CALNAME:teutonavigator Kalender via destination.meta
BEGIN:VEVENT
CATEGORIES:Gesundheit/Wellness
DESCRIPTION:Vortrag\nPatientenverfügung / Vorsorgevollmacht\n\nmehr Informa
 tionen unter http://pages.destination.one/de/teutonavigator/streaming/deta
 il/Event/e_101259111/patientenverf-gung-vorsorgevollmacht
DTEND;TZID=Europe/Berlin:20260619T183000
DTSTAMP:20260422T142836Z
DTSTART;TZID=Europe/Berlin:20260619T170000
GEO:51.959092;8.666040
LOCATION:Gesundheitszentrum Oerlinghausen\, Detmolder Straße 6-10\, Oerling
 hausen
ORGANIZER;CN=Gesundheitszentrum Oerlinghausen:mailto:gesundheitszentrum-oer
 linghausen@kreis-lippe.de
SEQUENCE:0
SUMMARY:Patientenverfügung\, Vorsorgevollmacht
UID:e_101259111_iv0
URL:http://pages.destination.one/de/teutonavigator/streaming/detail/Event/e
 _101259111/patientenverf-gung-vorsorgevollmacht
END:VEVENT
BEGIN:VTIMEZONE
TZID:Europe/Berlin
X-LIC-LOCATION:Europe/Berlin
BEGIN:DAYLIGHT
DTSTART:19700329T020000
RRULE:FREQ=YEARLY;BYDAY=-1SU;BYMONTH=3
TZNAME:CEST
TZOFFSETFROM:+0100
TZOFFSETTO:+0200
END:DAYLIGHT
BEGIN:STANDARD
DTSTART:19701025T030000
RRULE:FREQ=YEARLY;BYDAY=-1SU;BYMONTH=10
TZNAME:CET
TZOFFSETFROM:+0200
TZOFFSETTO:+0100
END:STANDARD
END:VTIMEZONE
END:VCALENDAR
