BEGIN:VCALENDAR
VERSION:2.0
PRODID:-//destination.one//NONSGML destination.meta API//DE
X-WR-CALDESC:A calendar powered by destination.meta
X-WR-CALNAME:teutonavigator Kalender via destination.meta
BEGIN:VEVENT
CATEGORIES:Vortrag/Lesung
DESCRIPTION:Weniger Schnickschnack\, mehr echte Kunst und Verbindung! Wir w
 ollen mit euch einen Abend lang Kreativität in den Mittelpunkt stellen.\n\
 nmehr Informationen unter http://pages.destination.one/de/teutonavigator/s
 treaming/detail/Event/e_101259106/creative-after-work-event-im-rahmen-der-
 ddw
DTEND;TZID=Europe/Berlin:20260506T200000
DTSTAMP:20260422T130748Z
DTSTART;TZID=Europe/Berlin:20260506T160000
GEO:51.936372;8.861263
LOCATION:KIO - KreativInstitut.OWL\, Bielefelder Straße 66a\, Detmold
ORGANIZER;CN=Kreativ Campus Detmold e. V.:mailto:hallo@kreativ-campus-detmo
 ld.de
SEQUENCE:0
SUMMARY:Creative After Work Event im Rahmen der DDW
UID:e_101259106_iv0
URL:http://pages.destination.one/de/teutonavigator/streaming/detail/Event/e
 _101259106/creative-after-work-event-im-rahmen-der-ddw
END:VEVENT
BEGIN:VTIMEZONE
TZID:Europe/Berlin
X-LIC-LOCATION:Europe/Berlin
BEGIN:DAYLIGHT
DTSTART:19700329T020000
RRULE:FREQ=YEARLY;BYDAY=-1SU;BYMONTH=3
TZNAME:CEST
TZOFFSETFROM:+0100
TZOFFSETTO:+0200
END:DAYLIGHT
BEGIN:STANDARD
DTSTART:19701025T030000
RRULE:FREQ=YEARLY;BYDAY=-1SU;BYMONTH=10
TZNAME:CET
TZOFFSETFROM:+0200
TZOFFSETTO:+0100
END:STANDARD
END:VTIMEZONE
END:VCALENDAR
