BEGIN:VCALENDAR
VERSION:2.0
PRODID:-//destination.one//NONSGML destination.meta API//DE
X-WR-CALDESC:A calendar powered by destination.meta
X-WR-CALNAME:teutonavigator Kalender via destination.meta
BEGIN:VEVENT
CATEGORIES:Sport/Freizeit
DESCRIPTION:Unter dem Leitgedanken „Europa Gemeinsam Bewegen“ organisiert d
 as EUROPE DIRECT Kreis Gütersloh gemeinsam mit der Gemeinde Steinhagen am 
 Dienstag\, 05. Mai\, eine offene Laufaktion. Beginn ist um 16 Uhr am Ratha
 us in Steinhagen. Die Aktion steht für ein sichtbares Bekenntnis zum europ
 äischen Zusammenhalt und zu den gemeinsamen Werten der Europäischen Union.
 \n\nmehr Informationen unter http://pages.destination.one/de/teutonavigato
 r/streaming/detail/Event/e_101259006/europa-lauf-steinhagen
DTEND;TZID=Europe/Berlin:20260505T180000
DTSTAMP:20260422T130741Z
DTSTART;TZID=Europe/Berlin:20260505T160000
GEO:52.007073;8.418054
LOCATION:Rathaus Steinhagen | Informieren in der Gemeindeverwaltung\, Am Pu
 lverbach 25\, Steinhagen
SEQUENCE:0
SUMMARY:Europa-Lauf Steinhagen
UID:e_101259006_iv0
URL:http://pages.destination.one/de/teutonavigator/streaming/detail/Event/e
 _101259006/europa-lauf-steinhagen
END:VEVENT
BEGIN:VTIMEZONE
TZID:Europe/Berlin
X-LIC-LOCATION:Europe/Berlin
BEGIN:DAYLIGHT
DTSTART:19700329T020000
RRULE:FREQ=YEARLY;BYDAY=-1SU;BYMONTH=3
TZNAME:CEST
TZOFFSETFROM:+0100
TZOFFSETTO:+0200
END:DAYLIGHT
BEGIN:STANDARD
DTSTART:19701025T030000
RRULE:FREQ=YEARLY;BYDAY=-1SU;BYMONTH=10
TZNAME:CET
TZOFFSETFROM:+0200
TZOFFSETTO:+0100
END:STANDARD
END:VTIMEZONE
END:VCALENDAR
