BEGIN:VCALENDAR
VERSION:2.0
PRODID:-//destination.one//NONSGML destination.meta API//DE
X-WR-CALDESC:A calendar powered by destination.meta
X-WR-CALNAME:teutonavigator Kalender via destination.meta
BEGIN:VEVENT
CATEGORIES:Sport/Freizeit
DESCRIPTION:Unter dem Motto „Europa Gemeinsam Bewegen“ richtet das EUROPE D
 IRECT Kreis Gütersloh zusammen mit der Stadt Rietberg am Freitag\, 22. Mai
 \, eine offene Laufaktion aus. Start ist um 16 Uhr am Parkplatz am Freibad
  in Rietberg\, Torfweg 40. Der Lauf ist Teil einer Reihe in allen 13 Kommu
 nen im Kreis Gütersloh und soll ein sichtbares Zeichen für den europäische
 n Zusammenhalt und die gemeinsamen Werte der Europäischen Union setzen.\n\
 nmehr Informationen unter http://pages.destination.one/de/teutonavigator/s
 treaming/detail/Event/e_101259001/europa-lauf-rietberg
DTEND;TZID=Europe/Berlin:20260522T180000
DTSTAMP:20260422T100908Z
DTSTART;TZID=Europe/Berlin:20260522T160000
GEO:51.806427;8.433123
LOCATION:Rietberger Freibad\, Torfweg 40\, Rietberg
SEQUENCE:0
SUMMARY:Europa-Lauf Rietberg
UID:e_101259001_iv0
URL:http://pages.destination.one/de/teutonavigator/streaming/detail/Event/e
 _101259001/europa-lauf-rietberg
END:VEVENT
BEGIN:VTIMEZONE
TZID:Europe/Berlin
X-LIC-LOCATION:Europe/Berlin
BEGIN:DAYLIGHT
DTSTART:19700329T020000
RRULE:FREQ=YEARLY;BYDAY=-1SU;BYMONTH=3
TZNAME:CEST
TZOFFSETFROM:+0100
TZOFFSETTO:+0200
END:DAYLIGHT
BEGIN:STANDARD
DTSTART:19701025T030000
RRULE:FREQ=YEARLY;BYDAY=-1SU;BYMONTH=10
TZNAME:CET
TZOFFSETFROM:+0200
TZOFFSETTO:+0100
END:STANDARD
END:VTIMEZONE
END:VCALENDAR
