BEGIN:VCALENDAR
VERSION:2.0
PRODID:-//destination.one//NONSGML destination.meta API//DE
X-WR-CALDESC:A calendar powered by destination.meta
X-WR-CALNAME:teutonavigator Kalender via destination.meta
BEGIN:VEVENT
CATEGORIES:Sport/Freizeit
DESCRIPTION:Zusammen mit der Gemeinde Herzebrock-Clarholz veranstaltet das 
 EUROPE DIRECT Kreis Gütersloh am Samstag\, 9. Mai\, unter dem Motto „Europ
 a Gemeinsam Bewegen“ eine offene Laufaktion. Der Lauf beginnt um 16 Uhr an
  der Wilbrandschule in Clarholz. Ziel ist es\, den europäischen Zusammenha
 lt und die gemeinsamen Werte der Europäischen Union sichtbar zu machen.\n\
 nmehr Informationen unter http://pages.destination.one/de/teutonavigator/s
 treaming/detail/Event/e_101258983/europa-lauf-herzebrock-clarholz
DTEND;TZID=Europe/Berlin:20260509T180000
DTSTAMP:20260422T130738Z
DTSTART;TZID=Europe/Berlin:20260509T160000
GEO:51.902276;8.196709
LOCATION:Gemeinde Herzebrock-Clarholz\, Schulstraße 18\, Herzebrock-Clarhol
 z
SEQUENCE:0
SUMMARY:Europa-Lauf Herzebrock-Clarholz
UID:e_101258983_iv0
URL:http://pages.destination.one/de/teutonavigator/streaming/detail/Event/e
 _101258983/europa-lauf-herzebrock-clarholz
END:VEVENT
BEGIN:VTIMEZONE
TZID:Europe/Berlin
X-LIC-LOCATION:Europe/Berlin
BEGIN:DAYLIGHT
DTSTART:19700329T020000
RRULE:FREQ=YEARLY;BYDAY=-1SU;BYMONTH=3
TZNAME:CEST
TZOFFSETFROM:+0100
TZOFFSETTO:+0200
END:DAYLIGHT
BEGIN:STANDARD
DTSTART:19701025T030000
RRULE:FREQ=YEARLY;BYDAY=-1SU;BYMONTH=10
TZNAME:CET
TZOFFSETFROM:+0200
TZOFFSETTO:+0100
END:STANDARD
END:VTIMEZONE
END:VCALENDAR
