BEGIN:VCALENDAR
VERSION:2.0
PRODID:-//destination.one//NONSGML destination.meta API//DE
X-WR-CALDESC:A calendar powered by destination.meta
X-WR-CALNAME:teutonavigator Kalender via destination.meta
BEGIN:VEVENT
CATEGORIES:Sport/Freizeit
CATEGORIES:Brauchtum/Kultur
CATEGORIES:Schauspiel
CATEGORIES:Kabarett
DESCRIPTION:Die Kalletaler Wortakrobaten erzählen Geschichten für die besin
 nliche Zeit.\n\nFreuen Sie sich auf einen unterhaltensamen Abend mit erfah
 renen\, professionellen Erzählerinnen und Erzählern\, bei denen Sie zuhöre
 n\, eintauchen und dabeisein können.\n\nmehr Informationen unter http://pa
 ges.destination.one/de/teutonavigator/streaming/detail/Event/e_101258981/f
 reie-erz-hlkunst-a-d-gelben-b-hne-besinnliches
DTEND;TZID=Europe/Berlin:20261127T203000
DTSTAMP:20260423T110757Z
DTSTART;TZID=Europe/Berlin:20261127T190000
GEO:52.082976;8.750351
LOCATION:Gelbe Schule\, Martin-Luther-Straße 2\, Bad Salzuflen
ORGANIZER;CN=Ricarda Koch:mailto:kontakt@wort-akrobaten.de
RRULE:FREQ=WEEKLY;UNTIL=20261127T230000;BYDAY=FR
SEQUENCE:0
SUMMARY:Freie Erzählkunst a. d. Gelben Bühne: Besinnliches!
UID:e_101258981_iv0
URL:http://pages.destination.one/de/teutonavigator/streaming/detail/Event/e
 _101258981/freie-erz-hlkunst-a-d-gelben-b-hne-besinnliches
END:VEVENT
BEGIN:VTIMEZONE
TZID:Europe/Berlin
X-LIC-LOCATION:Europe/Berlin
BEGIN:DAYLIGHT
DTSTART:19700329T020000
RRULE:FREQ=YEARLY;BYDAY=-1SU;BYMONTH=3
TZNAME:CEST
TZOFFSETFROM:+0100
TZOFFSETTO:+0200
END:DAYLIGHT
BEGIN:STANDARD
DTSTART:19701025T030000
RRULE:FREQ=YEARLY;BYDAY=-1SU;BYMONTH=10
TZNAME:CET
TZOFFSETFROM:+0200
TZOFFSETTO:+0100
END:STANDARD
END:VTIMEZONE
END:VCALENDAR
