BEGIN:VCALENDAR
VERSION:2.0
PRODID:-//destination.one//NONSGML destination.meta API//DE
X-WR-CALDESC:A calendar powered by destination.meta
X-WR-CALNAME:teutonavigator Kalender via destination.meta
BEGIN:VEVENT
CATEGORIES:Sport/Freizeit
CATEGORIES:Brauchtum/Kultur
CATEGORIES:Schauspiel
CATEGORIES:Kabarett
DESCRIPTION:Die Kalletaler Wortakrobaten erzählen Geschichten über zauberku
 ndige Leute. Darunter befinden sich neben den zu ewartenden Hexen und Zaub
 erern auch Apotheker und Musiker. \n\nFreuen Sie sich auf einen magisch za
 uberhaften Abend der freien mündlichen Erzählkunst mit uns.\n\nmehr Inform
 ationen unter http://pages.destination.one/de/teutonavigator/streaming/det
 ail/Event/e_101258980/freie-erz-hlkunst-auf-der-gelben-b-hne-magisches
DTEND;TZID=Europe/Berlin:20261030T203000
DTSTAMP:20260422T155233Z
DTSTART;TZID=Europe/Berlin:20261030T190000
GEO:52.082976;8.750351
LOCATION:Gelbe Schule\, Martin-Luther-Straße 2\, Bad Salzuflen
ORGANIZER;CN=Ricarda Koch:mailto:kontakt@wort-akrobaten.de
RRULE:FREQ=WEEKLY;UNTIL=20261030T230000;BYDAY=FR
SEQUENCE:0
SUMMARY:Freie Erzählkunst auf der Gelben Bühne: Magisches!
UID:e_101258980_iv0
URL:http://pages.destination.one/de/teutonavigator/streaming/detail/Event/e
 _101258980/freie-erz-hlkunst-auf-der-gelben-b-hne-magisches
END:VEVENT
BEGIN:VTIMEZONE
TZID:Europe/Berlin
X-LIC-LOCATION:Europe/Berlin
BEGIN:DAYLIGHT
DTSTART:19700329T020000
RRULE:FREQ=YEARLY;BYDAY=-1SU;BYMONTH=3
TZNAME:CEST
TZOFFSETFROM:+0100
TZOFFSETTO:+0200
END:DAYLIGHT
BEGIN:STANDARD
DTSTART:19701025T030000
RRULE:FREQ=YEARLY;BYDAY=-1SU;BYMONTH=10
TZNAME:CET
TZOFFSETFROM:+0200
TZOFFSETTO:+0100
END:STANDARD
END:VTIMEZONE
END:VCALENDAR
