BEGIN:VCALENDAR
VERSION:2.0
PRODID:-//destination.one//NONSGML destination.meta API//DE
X-WR-CALDESC:A calendar powered by destination.meta
X-WR-CALNAME:teutonavigator Kalender via destination.meta
BEGIN:VEVENT
CATEGORIES:Geselligkeit/Spiele/Treffen
CATEGORIES:Kinderprogramm
DESCRIPTION:Spaß für Groß und Klein – unter diesem Motto wollen wir das Spi
 elplatzfest auch in diesem Jahr erneut auf die Beine stellen.\n\nmehr Info
 rmationen unter http://pages.destination.one/de/teutonavigator/streaming/d
 etail/Event/e_101258952/spielplatzfest
DTEND;TZID=Europe/Berlin:20260531T170000
DTSTAMP:20260422T130748Z
DTSTART;TZID=Europe/Berlin:20260531T130000
GEO:52.341851;8.540964
LOCATION:Kinderspielplatz "Treiberweg" in Preußisch Oldendorf\, Treiberweg 
 3\, Preußisch Oldendorf
ORGANIZER;CN=Dorfgemeinschaft Hedem:mailto:info@hedem.info
SEQUENCE:0
SUMMARY:Spielplatzfest
UID:e_101258952_iv0
URL:http://pages.destination.one/de/teutonavigator/streaming/detail/Event/e
 _101258952/spielplatzfest
END:VEVENT
BEGIN:VTIMEZONE
TZID:Europe/Berlin
X-LIC-LOCATION:Europe/Berlin
BEGIN:DAYLIGHT
DTSTART:19700329T020000
RRULE:FREQ=YEARLY;BYDAY=-1SU;BYMONTH=3
TZNAME:CEST
TZOFFSETFROM:+0100
TZOFFSETTO:+0200
END:DAYLIGHT
BEGIN:STANDARD
DTSTART:19701025T030000
RRULE:FREQ=YEARLY;BYDAY=-1SU;BYMONTH=10
TZNAME:CET
TZOFFSETFROM:+0200
TZOFFSETTO:+0100
END:STANDARD
END:VTIMEZONE
END:VCALENDAR
