BEGIN:VCALENDAR
VERSION:2.0
PRODID:-//destination.one//NONSGML destination.meta API//DE
X-WR-CALDESC:A calendar powered by destination.meta
X-WR-CALNAME:teutonavigator Kalender via destination.meta
BEGIN:VEVENT
CATEGORIES:Kurs/Seminar/Hobby
DESCRIPTION:Kulturrucksack: Character-Design aus Fimo\n\nmehr Informationen
  unter http://pages.destination.one/de/teutonavigator/streaming/detail/Eve
 nt/e_101258850/kulturrucksack-character-design-aus-fimo
DTEND;TZID=Europe/Berlin:20260926T235900
DTSTAMP:20260423T123458Z
DTSTART;TZID=Europe/Berlin:20260926T143000
GEO:52.276660;8.918410
LOCATION:Kinder- u. Jugendkreativzentrum Anne Frank\, Salierstraße 40\, Min
 den
RRULE:FREQ=WEEKLY;UNTIL=20260926T220000;BYDAY=SA
SEQUENCE:0
SUMMARY:Kulturrucksack: Character-Design aus Fimo
UID:e_101258850_iv0
URL:http://pages.destination.one/de/teutonavigator/streaming/detail/Event/e
 _101258850/kulturrucksack-character-design-aus-fimo
END:VEVENT
BEGIN:VTIMEZONE
TZID:Europe/Berlin
X-LIC-LOCATION:Europe/Berlin
BEGIN:DAYLIGHT
DTSTART:19700329T020000
RRULE:FREQ=YEARLY;BYDAY=-1SU;BYMONTH=3
TZNAME:CEST
TZOFFSETFROM:+0100
TZOFFSETTO:+0200
END:DAYLIGHT
BEGIN:STANDARD
DTSTART:19701025T030000
RRULE:FREQ=YEARLY;BYDAY=-1SU;BYMONTH=10
TZNAME:CET
TZOFFSETFROM:+0200
TZOFFSETTO:+0100
END:STANDARD
END:VTIMEZONE
END:VCALENDAR
