BEGIN:VCALENDAR
VERSION:2.0
PRODID:-//destination.one//NONSGML destination.meta API//DE
X-WR-CALDESC:A calendar powered by destination.meta
X-WR-CALNAME:teutonavigator Kalender via destination.meta
BEGIN:VEVENT
CATEGORIES:Kurs/Seminar/Hobby
DESCRIPTION:Kulturrucksack: Theaterlabor\n\nmehr Informationen unter http:/
 /pages.destination.one/de/teutonavigator/streaming/detail/Event/e_10125884
 6/kulturrucksack-theaterlabor
DTEND;TZID=Europe/Berlin:20261027T235900
DTSTAMP:20260422T130746Z
DTSTART;TZID=Europe/Berlin:20261027T130000
GEO:52.287367;8.918105
LOCATION:Stadt Minden\, Tonhallenstraße 3\, Minden
RRULE:FREQ=WEEKLY;UNTIL=20261031T230000;BYDAY=TU,WE,TH,FR,SA
SEQUENCE:0
SUMMARY:Kulturrucksack: Theaterlabor
UID:e_101258846_iv0
URL:http://pages.destination.one/de/teutonavigator/streaming/detail/Event/e
 _101258846/kulturrucksack-theaterlabor
END:VEVENT
BEGIN:VTIMEZONE
TZID:Europe/Berlin
X-LIC-LOCATION:Europe/Berlin
BEGIN:DAYLIGHT
DTSTART:19700329T020000
RRULE:FREQ=YEARLY;BYDAY=-1SU;BYMONTH=3
TZNAME:CEST
TZOFFSETFROM:+0100
TZOFFSETTO:+0200
END:DAYLIGHT
BEGIN:STANDARD
DTSTART:19701025T030000
RRULE:FREQ=YEARLY;BYDAY=-1SU;BYMONTH=10
TZNAME:CET
TZOFFSETFROM:+0200
TZOFFSETTO:+0100
END:STANDARD
END:VTIMEZONE
END:VCALENDAR
