BEGIN:VCALENDAR
VERSION:2.0
PRODID:-//destination.one//NONSGML destination.meta API//DE
X-WR-CALDESC:A calendar powered by destination.meta
X-WR-CALNAME:teutonavigator Kalender via destination.meta
BEGIN:VEVENT
CATEGORIES:Kurs/Seminar/Hobby
DESCRIPTION:Kulturrucksack: Woll-Aquarell\n\nmehr Informationen unter http:
 //pages.destination.one/de/teutonavigator/streaming/detail/Event/e_1012588
 44/kulturrucksack-woll-aquarell
DTEND;TZID=Europe/Berlin:20260912T235900
DTSTAMP:20260422T130741Z
DTSTART;TZID=Europe/Berlin:20260912T150000
GEO:52.282188;8.881648
LOCATION:Kinder- und Jugendtreff Westside\, Piwittskamp 38\, Minden
RRULE:FREQ=WEEKLY;UNTIL=20260912T220000;BYDAY=SA
SEQUENCE:0
SUMMARY:Kulturrucksack: Woll-Aquarell
UID:e_101258844_iv0
URL:http://pages.destination.one/de/teutonavigator/streaming/detail/Event/e
 _101258844/kulturrucksack-woll-aquarell
END:VEVENT
BEGIN:VTIMEZONE
TZID:Europe/Berlin
X-LIC-LOCATION:Europe/Berlin
BEGIN:DAYLIGHT
DTSTART:19700329T020000
RRULE:FREQ=YEARLY;BYDAY=-1SU;BYMONTH=3
TZNAME:CEST
TZOFFSETFROM:+0100
TZOFFSETTO:+0200
END:DAYLIGHT
BEGIN:STANDARD
DTSTART:19701025T030000
RRULE:FREQ=YEARLY;BYDAY=-1SU;BYMONTH=10
TZNAME:CET
TZOFFSETFROM:+0200
TZOFFSETTO:+0100
END:STANDARD
END:VTIMEZONE
END:VCALENDAR
