BEGIN:VCALENDAR
VERSION:2.0
PRODID:-//destination.one//NONSGML destination.meta API//DE
X-WR-CALDESC:A calendar powered by destination.meta
X-WR-CALNAME:teutonavigator Kalender via destination.meta
BEGIN:VEVENT
CATEGORIES:Festival/Open-Air
CATEGORIES:Geselligkeit/Spiele/Treffen
CATEGORIES:Sport/Freizeit
CATEGORIES:Turnier/Wettbewerb
DESCRIPTION:\n\nmehr Informationen unter http://pages.destination.one/de/te
 utonavigator/streaming/detail/Event/e_101258640/public-viewing-im-eggetal
DTEND;TZID=Europe/Berlin:20260614T235900
DTSTAMP:20260422T100010Z
DTSTART;TZID=Europe/Berlin:20260614T190000
GEO:52.275372;8.500415
LOCATION:Husemeyer's Hof\, Eggetaler Straße 30\, Preußisch Oldendorf
SEQUENCE:0
SUMMARY:Public Viewing im Eggetal
UID:e_101258640_iv0
URL:http://pages.destination.one/de/teutonavigator/streaming/detail/Event/e
 _101258640/public-viewing-im-eggetal
END:VEVENT
BEGIN:VEVENT
CATEGORIES:Festival/Open-Air
CATEGORIES:Geselligkeit/Spiele/Treffen
CATEGORIES:Sport/Freizeit
CATEGORIES:Turnier/Wettbewerb
DESCRIPTION:\n\nmehr Informationen unter http://pages.destination.one/de/te
 utonavigator/streaming/detail/Event/e_101258640/public-viewing-im-eggetal
DTEND;TZID=Europe/Berlin:20260620T235900
DTSTAMP:20260422T100010Z
DTSTART;TZID=Europe/Berlin:20260620T220000
GEO:52.275372;8.500415
LOCATION:Husemeyer's Hof\, Eggetaler Straße 30\, Preußisch Oldendorf
SEQUENCE:0
SUMMARY:Public Viewing im Eggetal
UID:e_101258640_iv1
URL:http://pages.destination.one/de/teutonavigator/streaming/detail/Event/e
 _101258640/public-viewing-im-eggetal
END:VEVENT
BEGIN:VTIMEZONE
TZID:Europe/Berlin
X-LIC-LOCATION:Europe/Berlin
BEGIN:DAYLIGHT
DTSTART:19700329T020000
RRULE:FREQ=YEARLY;BYDAY=-1SU;BYMONTH=3
TZNAME:CEST
TZOFFSETFROM:+0100
TZOFFSETTO:+0200
END:DAYLIGHT
BEGIN:STANDARD
DTSTART:19701025T030000
RRULE:FREQ=YEARLY;BYDAY=-1SU;BYMONTH=10
TZNAME:CET
TZOFFSETFROM:+0200
TZOFFSETTO:+0100
END:STANDARD
END:VTIMEZONE
END:VCALENDAR
