BEGIN:VCALENDAR
VERSION:2.0
PRODID:-//destination.one//NONSGML destination.meta API//DE
X-WR-CALDESC:A calendar powered by destination.meta
X-WR-CALNAME:teutonavigator Kalender via destination.meta
BEGIN:VEVENT
CATEGORIES:Kinder- und Jugendtheater
DESCRIPTION:\n\nmehr Informationen unter http://pages.destination.one/de/te
 utonavigator/streaming/detail/Event/e_101258639/oh-wie-sch-n-ist-panama
DTEND;TZID=Europe/Berlin:20260816T235900
DTSTAMP:20260422T130743Z
DTSTART;TZID=Europe/Berlin:20260816T110000
GEO:51.748033;8.708414
LOCATION:Freilichtbühne Schloß Neuhaus\, Im Schlosspark\, Paderborn
ORGANIZER;CN=Freilichtbühne Schloß Neuhaus:mailto:kontakt@fbsn.de
SEQUENCE:0
SUMMARY:"Oh\, wie schön ist Panama!"
UID:e_101258639_iv0
URL:http://pages.destination.one/de/teutonavigator/streaming/detail/Event/e
 _101258639/oh-wie-sch-n-ist-panama
END:VEVENT
BEGIN:VEVENT
CATEGORIES:Kinder- und Jugendtheater
DESCRIPTION:\n\nmehr Informationen unter http://pages.destination.one/de/te
 utonavigator/streaming/detail/Event/e_101258639/oh-wie-sch-n-ist-panama
DTEND;TZID=Europe/Berlin:20260816T235900
DTSTAMP:20260422T130743Z
DTSTART;TZID=Europe/Berlin:20260816T160000
GEO:51.748033;8.708414
LOCATION:Freilichtbühne Schloß Neuhaus\, Im Schlosspark\, Paderborn
ORGANIZER;CN=Freilichtbühne Schloß Neuhaus:mailto:kontakt@fbsn.de
SEQUENCE:0
SUMMARY:"Oh\, wie schön ist Panama!"
UID:e_101258639_iv1
URL:http://pages.destination.one/de/teutonavigator/streaming/detail/Event/e
 _101258639/oh-wie-sch-n-ist-panama
END:VEVENT
BEGIN:VEVENT
CATEGORIES:Kinder- und Jugendtheater
DESCRIPTION:\n\nmehr Informationen unter http://pages.destination.one/de/te
 utonavigator/streaming/detail/Event/e_101258639/oh-wie-sch-n-ist-panama
DTEND;TZID=Europe/Berlin:20260817T235900
DTSTAMP:20260422T130743Z
DTSTART;TZID=Europe/Berlin:20260817T100000
GEO:51.748033;8.708414
LOCATION:Freilichtbühne Schloß Neuhaus\, Im Schlosspark\, Paderborn
ORGANIZER;CN=Freilichtbühne Schloß Neuhaus:mailto:kontakt@fbsn.de
SEQUENCE:0
SUMMARY:"Oh\, wie schön ist Panama!"
UID:e_101258639_iv2
URL:http://pages.destination.one/de/teutonavigator/streaming/detail/Event/e
 _101258639/oh-wie-sch-n-ist-panama
END:VEVENT
BEGIN:VEVENT
CATEGORIES:Kinder- und Jugendtheater
DESCRIPTION:\n\nmehr Informationen unter http://pages.destination.one/de/te
 utonavigator/streaming/detail/Event/e_101258639/oh-wie-sch-n-ist-panama
DTEND;TZID=Europe/Berlin:20260817T235900
DTSTAMP:20260422T130743Z
DTSTART;TZID=Europe/Berlin:20260817T170000
GEO:51.748033;8.708414
LOCATION:Freilichtbühne Schloß Neuhaus\, Im Schlosspark\, Paderborn
ORGANIZER;CN=Freilichtbühne Schloß Neuhaus:mailto:kontakt@fbsn.de
SEQUENCE:0
SUMMARY:"Oh\, wie schön ist Panama!"
UID:e_101258639_iv3
URL:http://pages.destination.one/de/teutonavigator/streaming/detail/Event/e
 _101258639/oh-wie-sch-n-ist-panama
END:VEVENT
BEGIN:VTIMEZONE
TZID:Europe/Berlin
X-LIC-LOCATION:Europe/Berlin
BEGIN:DAYLIGHT
DTSTART:19700329T020000
RRULE:FREQ=YEARLY;BYDAY=-1SU;BYMONTH=3
TZNAME:CEST
TZOFFSETFROM:+0100
TZOFFSETTO:+0200
END:DAYLIGHT
BEGIN:STANDARD
DTSTART:19701025T030000
RRULE:FREQ=YEARLY;BYDAY=-1SU;BYMONTH=10
TZNAME:CET
TZOFFSETFROM:+0200
TZOFFSETTO:+0100
END:STANDARD
END:VTIMEZONE
END:VCALENDAR
